Workbook

Sheet Riskien luokittelu
A1: LÄMPENEMINEN
A2: ENNAKOINTI JA RESILIENSSI | B2: VASTAUS | C2: LISÄTIETOJA | G2: INPUT SOLUT -väri, älä muuta muita soluja
A3: Oletteko yrityksessänne miettineet / ennakoineet minkälaiset muutokset, uudet mahdollisuudet tai häiriöt voivat kohdistua yrityksenne toimintaan ilmastonlämpenemisen takia?
A4: Oletteko varautuneet näihin jollain tavoin?
A5: Tietolähteitä ilmastonlämpenemisestä?
A6: RISKIT | B6: TODENNÄKÖISYYS (1-10) | C6: VAIKUTUS (1-10) | D6: RISKILUOKKA | E6: Index
A7: Vesijärjestelmä, vesihuolto ja jätevesijärjestelmä | B7: =AVERAGE(B8:B10) -> 1.6666667 | C7: 3 | D7: {=_xlfn.IFS(B7+C7>=SQRT($K$18),3,B7+C7>=SQRT($K$17),2,B7+C7>=$K$16,1)} -> 1 | E7: R1
A8: Jätevesi | B8: 3 | C8: 1 | D8: {=_xlfn.IFS(B8+C8>=SQRT($K$18),3,B8+C8>=SQRT($K$17),2,B8+C8>=$K$16,1)} -> 1
A9: Veden saanti | B9: 1 | C9: 1 | D9: {=_xlfn.IFS(B9+C9>=SQRT($K$18),3,B9+C9>=SQRT($K$17),2,B9+C9>=$K$16,1)} -> 1
A10: Veden laatu | B10: 1 | C10: 3 | D10: {=_xlfn.IFS(B10+C10>=SQRT($K$18),3,B10+C10>=SQRT($K$17),2,B10+C10>=$K$16,1)} -> 1
A11: Sähkö- ja energiajärjestelmä | B11: =AVERAGE(B12:B13) -> 6 | C11: =AVERAGE(C12:C13) -> 4 | D11: {=_xlfn.IFS(B11+C11>=SQRT($K$18),3,B11+C11>=SQRT($K$17),2,B11+C11>=$K$16,1)} -> 3 | E11: R2
A12: Lyhyt sähkökatkos | B12: 9 | C12: 5 | D12: {=_xlfn.IFS(B12+C12>=SQRT($K$18),3,B12+C12>=SQRT($K$17),2,B12+C12>=$K$16,1)} -> 3
A13: Pitkä sähkökatkos | B13: 3 | C13: 3 | D13: {=_xlfn.IFS(B13+C13>=SQRT($K$18),3,B13+C13>=SQRT($K$17),2,B13+C13>=$K$16,1)} -> 2
A14: Jätehuolto | B14: =AVERAGE(B15:B16) -> 5.5 | C14: =AVERAGE(C15:C16) -> 5.5 | D14: {=_xlfn.IFS(B14+C14>=SQRT($K$18),3,B14+C14>=SQRT($K$17),2,B14+C14>=$K$16,1)} -> 3 | E14: R3
A15: Logistiset ongelmat | B15: 10 | C15: 8 | D15: {=_xlfn.IFS(B15+C15>=SQRT($K$18),3,B15+C15>=SQRT($K$17),2,B15+C15>=$K$16,1)} -> 3 | G15: Triagen luokat | H15: Alaraja (1-20) | J15: Triagen luokat | K15: Alaraja (0-200)
A16: Hygienia ja turvallisuus | B16: 1 | C16: 3 | D16: {=_xlfn.IFS(B16+C16>=SQRT($K$18),3,B16+C16>=SQRT($K$17),2,B16+C16>=$K$16,1)} -> 1 | G16: 1 | H16: 0 | J16: 1 | K16: 0
A17: Toiminta ilman internetyhteyttä | B17: =AVERAGE(B18:B19) -> 4.5 | C17: =AVERAGE(C18:C19) -> 6 | D17: {=_xlfn.IFS(B17+C17>=SQRT($K$18),3,B17+C17>=SQRT($K$17),2,B17+C17>=$K$16,1)} -> 3 | E17: R4 | G17: 2 | H17: 6 | J17: 2 | K17: =$H$17*$H$17 -> 36
A18: Tuotannonohjausjärjestelmän katkos | B18: 6 | C18: 9 | D18: {=_xlfn.IFS(B18+C18>=SQRT($K$18),3,B18+C18>=SQRT($K$17),2,B18+C18>=$K$16,1)} -> 3 | G18: 3 | H18: 9 | J18: 3 | K18: =$H$18*$H$18 -> 81
A19: Kommunikaatio | B19: 3 | C19: 3 | D19: {=_xlfn.IFS(B19+C19>=SQRT($K$18),3,B19+C19>=SQRT($K$17),2,B19+C19>=$K$16,1)} -> 2
A20: Muu tietoliikennehäiriö | B20: =AVERAGE(B21:B22) -> 6 | C20: =AVERAGE(C21:C22) -> 3 | D20: {=_xlfn.IFS(B20+C20>=SQRT($K$18),3,B20+C20>=SQRT($K$17),2,B20+C20>=$K$16,1)} -> 3 | E20: R5
A21: Automaatiojärjestelmät | B21: 9 | C21: 3 | D21: {=_xlfn.IFS(B21+C21>=SQRT($K$18),3,B21+C21>=SQRT($K$17),2,B21+C21>=$K$16,1)} -> 3
A22: Kyberturvallisuus | B22: 3 | C22: 3 | D22: {=_xlfn.IFS(B22+C22>=SQRT($K$18),3,B22+C22>=SQRT($K$17),2,B22+C22>=$K$16,1)} -> 2
A23: Tuotantopanosten kustannukset | B23: =AVERAGE(B24:B25) -> 6 | C23: =AVERAGE(C24:C25) -> 4.5 | D23: {=_xlfn.IFS(B23+C23>=SQRT($K$18),3,B23+C23>=SQRT($K$17),2,B23+C23>=$K$16,1)} -> 3 | E23: R6
A24: Energia ja polttoaine | B24: 9 | C24: 6 | D24: {=_xlfn.IFS(B24+C24>=SQRT($K$18),3,B24+C24>=SQRT($K$17),2,B24+C24>=$K$16,1)} -> 3
A25: Tuotannon raaka-aineet | B25: 3 | C25: 3 | D25: {=_xlfn.IFS(B25+C25>=SQRT($K$18),3,B25+C25>=SQRT($K$17),2,B25+C25>=$K$16,1)} -> 2
A26: Esikäsittelyn ja valmistuksen riskienhallinta | B26: =AVERAGE(B27:B28) -> 3 | C26: =AVERAGE(C27:C28) -> 3 | D26: {=_xlfn.IFS(B26+C26>=SQRT($K$18),3,B26+C26>=SQRT($K$17),2,B26+C26>=$K$16,1)} -> 2 | E26: R7
A27: Olosuhteiden vaihtelu (lämpötila ja kosteus) | B27: 3 | C27: 3 | D27: {=_xlfn.IFS(B27+C27>=SQRT($K$18),3,B27+C27>=SQRT($K$17),2,B27+C27>=$K$16,1)} -> 2
A28: Laitteisto | B28: 3 | C28: 3 | D28: {=_xlfn.IFS(B28+C28>=SQRT($K$18),3,B28+C28>=SQRT($K$17),2,B28+C28>=$K$16,1)} -> 2
A29: Elintarviketuotteiden säilytys ja varastointi | B29: =AVERAGE(B30:B31) -> 2 | C29: =AVERAGE(C30:C31) -> 4.5 | D29: {=_xlfn.IFS(B29+C29>=SQRT($K$18),3,B29+C29>=SQRT($K$17),2,B29+C29>=$K$16,1)} -> 2 | E29: R8
A30: lämpötila ja kosteus | B30: 3 | C30: 6 | D30: {=_xlfn.IFS(B30+C30>=SQRT($K$18),3,B30+C30>=SQRT($K$17),2,B30+C30>=$K$16,1)} -> 3
A31: Sähkökatkot | B31: 1 | C31: 3 | D31: {=_xlfn.IFS(B31+C31>=SQRT($K$18),3,B31+C31>=SQRT($K$17),2,B31+C31>=$K$16,1)} -> 1
A32: Henkilöstön osaaminen varautumisessa | B32: =AVERAGE(B33:B34) -> 5.5 | C32: =AVERAGE(C33:C34) -> 6 | D32: {=_xlfn.IFS(B32+C32>=SQRT($K$18),3,B32+C32>=SQRT($K$17),2,B32+C32>=$K$16,1)} -> 3 | E32: R9
A33: Puutteellinen koulutus | B33: 3 | C33: 9 | D33: {=_xlfn.IFS(B33+C33>=SQRT($K$18),3,B33+C33>=SQRT($K$17),2,B33+C33>=$K$16,1)} -> 3
A34: Rippuvuus yksittäisistä avainhenkilöistä | B34: 8 | C34: 3 | D34: {=_xlfn.IFS(B34+C34>=SQRT($K$18),3,B34+C34>=SQRT($K$17),2,B34+C34>=$K$16,1)} -> 3
A35: Henkinen kuormittuminen (ristiriidat) | B35: =AVERAGE(B36:B37) -> 3 | C35: =AVERAGE(C36:C37) -> 4 | D35: {=_xlfn.IFS(B35+C35>=SQRT($K$18),3,B35+C35>=SQRT($K$17),2,B35+C35>=$K$16,1)} -> 2 | E35: R10
A36: Vastuun jakautuminen | B36: 3 | C36: 5 | D36: {=_xlfn.IFS(B36+C36>=SQRT($K$18),3,B36+C36>=SQRT($K$17),2,B36+C36>=$K$16,1)} -> 2
A37: Sisäiset konfliktit | B37: 3 | C37: 3 | D37: {=_xlfn.IFS(B37+C37>=SQRT($K$18),3,B37+C37>=SQRT($K$17),2,B37+C37>=$K$16,1)} -> 2
A38: Vieraslajit | B38: =AVERAGE(B39:B40) -> 6.5 | C38: =AVERAGE(C39:C40) -> 3 | D38: {=_xlfn.IFS(B38+C38>=SQRT($K$18),3,B38+C38>=SQRT($K$17),2,B38+C38>=$K$16,1)} -> 3 | E38: R11
A39: Sadon menetykset | B39: 10 | C39: 2 | D39: {=_xlfn.IFS(B39+C39>=SQRT($K$18),3,B39+C39>=SQRT($K$17),2,B39+C39>=$K$16,1)} -> 3
A40: Vanhojen lajien syrjäyttäminen | B40: 3 | C40: 4 | D40: {=_xlfn.IFS(B40+C40>=SQRT($K$18),3,B40+C40>=SQRT($K$17),2,B40+C40>=$K$16,1)} -> 2
...

Sheet Tilastollinen käsittely
A1: TODENNÄKÖISYYKSIEN MUUTOS | G1: VAIKUTUSTEN MUUTOS
A2: RISKIT | B2: Optimistinen | C2: Keskiarvo | D2: Pessimistinen | G2: RISKIT | H2: Optimistinen | I2: Keskiarvo | J2: Pessimistinen
A3: Vesijärjestelmä, vesihuolto ja jätevesijärjestelmä | B3: =AVERAGE(B4:B6) -> 0.18333333 | C3: =AVERAGE(C4:C6) -> 0.43333333 | D3: =AVERAGE(D4:D6) -> 0.66666667 | G3: Vesijärjestelmä, vesihuolto ja jätevesijärjestelmä | H3: =AVERAGE(H4:H6) -> 0.033333333 | I3: =AVERAGE(I4:I6) -> 0.1 | J3: =AVERAGE(J4:J6) -> 0.25
A4: Jätevesi | B4: 0.15 | C4: 0.35 | D4: 0.55 | G4: Jätevesi | H4: 0 | I4: 0.05 | J4: 0.2
A5: Veden saanti | B5: 0.2 | C5: 0.45 | D5: 0.7 | G5: Veden saanti | H5: 0.05 | I5: 0.1 | J5: 0.3
A6: Veden laatu | B6: 0.2 | C6: 0.5 | D6: 0.75 | G6: Veden laatu | H6: 0.05 | I6: 0.15 | J6: 0.25
A7: Sähkö- ja energiajärjestelmä | B7: =AVERAGE(B8:B9) -> 0.175 | C7: =AVERAGE(C8:C9) -> 0.4 | D7: =AVERAGE(D8:D9) -> 0.65 | G7: Sähkö- ja energiajärjestelmä | H7: =AVERAGE(H8:H9) -> 0.05 | I7: =AVERAGE(I8:I9) -> 0.15 | J7: =AVERAGE(J8:J9) -> 0.35
A8: Lyhyt sähkökatkos | B8: 0.25 | C8: 0.5 | D8: 0.75 | G8: Lyhyt sähkökatkos | H8: 0.05 | I8: 0.1 | J8: 0.2
A9: Pitkä sähkökatkos | B9: 0.1 | C9: 0.3 | D9: 0.55 | G9: Pitkä sähkökatkos | H9: 0.05 | I9: 0.2 | J9: 0.5
A10: Jätehuolto | B10: =AVERAGE(B11:B12) -> 0.175 | C10: =AVERAGE(C11:C12) -> 0.4 | D10: =AVERAGE(D11:D12) -> 0.65 | G10: Jätehuolto | H10: =AVERAGE(H11:H12) -> 0.025 | I10: =AVERAGE(I11:I12) -> 0.125 | J10: =AVERAGE(J11:J12) -> 0.275
A11: Logistiset ongelmat | B11: 0.2 | C11: 0.45 | D11: 0.7 | G11: Logistiset ongelmat | H11: 0.05 | I11: 0.15 | J11: 0.35
A12: Hygienia ja turvallisuus | B12: 0.15 | C12: 0.35 | D12: 0.6 | G12: Hygienia ja turvallisuus | H12: 0 | I12: 0.1 | J12: 0.2
A13: Toiminta ilman internetyhteyttä | B13: =AVERAGE(B14:B15) -> 0.175 | C13: =AVERAGE(C14:C15) -> 0.375 | D13: =AVERAGE(D14:D15) -> 0.6 | G13: Toiminta ilman internetyhteyttä | H13: =AVERAGE(H14:H15) -> 0.05 | I13: =AVERAGE(I14:I15) -> 0.1 | J13: =AVERAGE(J14:J15) -> 0.2
A14: Tuotannonohjausjärjestelmän katkos | B14: 0.2 | C14: 0.4 | D14: 0.65 | G14: Tuotannonohjausjärjestelmän katkos | H14: 0.05 | I14: 0.1 | J14: 0.2
A15: Kommunikaatio | B15: 0.15 | C15: 0.35 | D15: 0.55 | G15: Kommunikaatio | H15: 0.05 | I15: 0.1 | J15: 0.2
A16: Muu tietoliikennehäiriö | B16: =AVERAGE(B17:B18) -> 0.2 | C16: =AVERAGE(C17:C18) -> 0.425 | D16: =AVERAGE(D17:D18) -> 0.65 | G16: Muu tietoliikennehäiriö | H16: =AVERAGE(H17:H18) -> 0.05 | I16: =AVERAGE(I17:I18) -> 0.1 | J16: =AVERAGE(J17:J18) -> 0.225
A17: Automaatiojärjestelmät | B17: 0.15 | C17: 0.35 | D17: 0.55 | G17: Automaatiojärjestelmät | H17: 0.05 | I17: 0.1 | J17: 0.2
A18: Kyberturvallisuus | B18: 0.25 | C18: 0.5 | D18: 0.75 | G18: Kyberturvallisuus | H18: 0.05 | I18: 0.1 | J18: 0.25
A19: Tuotantopanosten kustannukset | B19: =AVERAGE(B20:B21) -> 0.325 | C19: =AVERAGE(C20:C21) -> 0.575 | D19: =AVERAGE(D20:D21) -> 0.825 | G19: Tuotantopanosten kustannukset | H19: =AVERAGE(H20:H21) -> 0.075 | I19: =AVERAGE(I20:I21) -> 0.2 | J19: =AVERAGE(J20:J21) -> 0.45
A20: Energia ja polttoaine | B20: 0.35 | C20: 0.6 | D20: 0.85 | G20: Energia ja polttoaine | H20: 0.05 | I20: 0.15 | J20: 0.4
A21: Tuotannon raaka-aineet | B21: 0.3 | C21: 0.55 | D21: 0.8 | G21: Tuotannon raaka-aineet | H21: 0.1 | I21: 0.25 | J21: 0.5
A22: Esikäsittelyn ja valmistuksen riskienhallinta | B22: =AVERAGE(B23:B24) -> 0.275 | C22: =AVERAGE(C23:C24) -> 0.525 | D22: =AVERAGE(D23:D24) -> 0.775 | G22: Esikäsittelyn ja valmistuksen riskienhallinta | H22: =AVERAGE(H23:H24) -> 0.05 | I22: =AVERAGE(I23:I24) -> 0.175 | J22: =AVERAGE(J23:J24) -> 0.4
A23: Olosuhteiden vaihtelu (lämpötila ja kosteus) | B23: 0.3 | C23: 0.55 | D23: 0.8 | G23: Olosuhteiden vaihtelu (lämpötila ja kosteus) | H23: 0.05 | I23: 0.2 | J23: 0.5
A24: Laitteisto | B24: 0.25 | C24: 0.5 | D24: 0.75 | G24: Laitteisto | H24: 0.05 | I24: 0.15 | J24: 0.3
A25: Elintarviketuotteiden säilytys ja varastointi | B25: =AVERAGE(B26:B27) -> 0.225 | C25: =AVERAGE(C26:C27) -> 0.475 | D25: =AVERAGE(D26:D27) -> 0.725 | G25: Elintarviketuotteiden säilytys ja varastointi | H25: =AVERAGE(H26:H27) -> 0.05 | I25: =AVERAGE(I26:I27) -> 0.175 | J25: =AVERAGE(J26:J27) -> 0.35
A26: lämpötila ja kosteus | B26: 0.25 | C26: 0.5 | D26: 0.75 | G26: lämpötila ja kosteus | H26: 0.05 | I26: 0.15 | J26: 0.3
A27: Sähkökatkot | B27: 0.2 | C27: 0.45 | D27: 0.7 | G27: Sähkökatkot | H27: 0.05 | I27: 0.2 | J27: 0.4
A28: Henkilöstön osaaminen varautumisessa | B28: =AVERAGE(B29:B30) -> 0.225 | C28: =AVERAGE(C29:C30) -> 0.425 | D28: =AVERAGE(D29:D30) -> 0.675 | G28: Henkilöstön osaaminen varautumisessa | H28: =AVERAGE(H29:H30) -> 0.05 | I28: =AVERAGE(I29:I30) -> 0.15 | J28: =AVERAGE(J29:J30) -> 0.3
A29: Puutteellinen koulutus | B29: 0.2 | C29: 0.4 | D29: 0.65 | G29: Puutteellinen koulutus | H29: 0.05 | I29: 0.15 | J29: 0.3
A30: Rippuvuus yksittäisistä avainhenkilöistä | B30: 0.25 | C30: 0.45 | D30: 0.7 | G30: Rippuvuus yksittäisistä avainhenkilöistä | H30: 0.05 | I30: 0.15 | J30: 0.3
A31: Henkinen kuormittuminen (ristiriidat) | B31: =AVERAGE(B32:B33) -> 0.15 | C31: =AVERAGE(C32:C33) -> 0.35 | D31: =AVERAGE(D32:D33) -> 0.55 | G31: Henkinen kuormittuminen (ristiriidat) | H31: =AVERAGE(H32:H33) -> 0.025 | I31: =AVERAGE(I32:I33) -> 0.125 | J31: =AVERAGE(J32:J33) -> 0.275
A32: Vastuun jakautuminen | B32: 0.15 | C32: 0.35 | D32: 0.55 | G32: Vastuun jakautuminen | H32: 0 | I32: 0.1 | J32: 0.25
A33: Sisäiset konfliktit | B33: 0.15 | C33: 0.35 | D33: 0.55 | G33: Sisäiset konfliktit | H33: 0.05 | I33: 0.15 | J33: 0.3
A34: Vieraslajit | B34: =AVERAGE(B35:B36) -> 0.275 | C34: =AVERAGE(C35:C36) -> 0.525 | D34: =AVERAGE(D35:D36) -> 0.75 | G34: Vieraslajit | H34: =AVERAGE(H35:H36) -> 0.075 | I34: =AVERAGE(I35:I36) -> 0.2 | J34: =AVERAGE(J35:J36) -> 0.4
A35: Sadon menetykset | B35: 0.3 | C35: 0.55 | D35: 0.8 | G35: Sadon menetykset | H35: 0.1 | I35: 0.25 | J35: 0.5
A36: Vanhojen lajien syrjäyttäminen | B36: 0.25 | C36: 0.5 | D36: 0.7 | G36: Vanhojen lajien syrjäyttäminen | H36: 0.05 | I36: 0.15 | J36: 0.3
A37: Sään ääri-ilmiöiden vaikutus viljelyihin | B37: =AVERAGE(B38:B40) -> 0.31666667 | C37: =AVERAGE(C38:C40) -> 0.55 | D37: =AVERAGE(D38:D40) -> 0.75 | G37: Sään ääri-ilmiöiden vaikutus viljelyihin | H37: =AVERAGE(H38:H40) -> 0.05 | I37: =AVERAGE(I38:I40) -> 0.18333333 | J37: =AVERAGE(J38:J40) -> 0.46666667
A38: Rankkasateet | B38: 0.4 | C38: 0.6 | D38: 0.8 | G38: Rankkasateet | H38: 0.05 | I38: 0.15 | J38: 0.4
A39: Tulvat | B39: 0.3 | C39: 0.55 | D39: 0.75 | G39: Tulvat | H39: 0.05 | I39: 0.2 | J39: 0.5
A40: Myrskyt | B40: 0.25 | C40: 0.5 | D40: 0.7 | G40: Myrskyt | H40: 0.05 | I40: 0.2 | J40: 0.5
...

Sheet DATA
G7: X | H7: Y | J7: X | K7: Y | M7: X | N7: Y | R7: X | S7: Y
G8: 0 | H8: =MAX(0,SQRT('Riskien luokittelu'!$K$17)/SQRT('Riskien luokittelu'!$K$17)*(SQRT('Riskien luokittelu'!$K$17)-G8)) -> 6 | J8: 0 | K8: =MAX(0,SQRT('Riskien luokittelu'!$K$18)/SQRT('Riskien luokittelu'!$K$18)*(SQRT('Riskien luokittelu'!$K$18)-J8)-H8) -> 3 | M8: 0 | N8: =10-H8-K8 -> 1 | Q8: R1 | R8: =_xlfn.XLOOKUP(Q8,Table2[Index],Table2[TODENNÄKÖISYYS (1-10)])+1 -> 2.6666667 | S8: =_xlfn.XLOOKUP(DATA!Q8,Table2[Index],Table2[VAIKUTUS (1-10)]) -> 3
G9: 1 | H9: =MAX(0,SQRT('Riskien luokittelu'!$K$17)/SQRT('Riskien luokittelu'!$K$17)*(SQRT('Riskien luokittelu'!$K$17)-G9)) -> 5 | J9: 1 | K9: =MAX(0,SQRT('Riskien luokittelu'!$K$18)/SQRT('Riskien luokittelu'!$K$18)*(SQRT('Riskien luokittelu'!$K$18)-J9)-H9) -> 3 | M9: 1 | N9: =10-H9-K9 -> 2 | Q9: R2 | R9: =_xlfn.XLOOKUP(Q9,Table2[Index],Table2[TODENNÄKÖISYYS (1-10)])+1 -> 7 | S9: =_xlfn.XLOOKUP(DATA!Q9,Table2[Index],Table2[VAIKUTUS (1-10)]) -> 4
G10: 2 | H10: =MAX(0,SQRT('Riskien luokittelu'!$K$17)/SQRT('Riskien luokittelu'!$K$17)*(SQRT('Riskien luokittelu'!$K$17)-G10)) -> 4 | J10: 2 | K10: =MAX(0,SQRT('Riskien luokittelu'!$K$18)/SQRT('Riskien luokittelu'!$K$18)*(SQRT('Riskien luokittelu'!$K$18)-J10)-H10) -> 3 | M10: 2 | N10: =10-H10-K10 -> 3 | Q10: R3 | R10: =_xlfn.XLOOKUP(Q10,Table2[Index],Table2[TODENNÄKÖISYYS (1-10)])+1 -> 6.5 | S10: =_xlfn.XLOOKUP(DATA!Q10,Table2[Index],Table2[VAIKUTUS (1-10)]) -> 5.5
G11: 3 | H11: =MAX(0,SQRT('Riskien luokittelu'!$K$17)/SQRT('Riskien luokittelu'!$K$17)*(SQRT('Riskien luokittelu'!$K$17)-G11)) -> 3 | J11: 3 | K11: =MAX(0,SQRT('Riskien luokittelu'!$K$18)/SQRT('Riskien luokittelu'!$K$18)*(SQRT('Riskien luokittelu'!$K$18)-J11)-H11) -> 3 | M11: 3 | N11: =10-H11-K11 -> 4 | Q11: R4 | R11: =_xlfn.XLOOKUP(Q11,Table2[Index],Table2[TODENNÄKÖISYYS (1-10)])+1 -> 5.5 | S11: =_xlfn.XLOOKUP(DATA!Q11,Table2[Index],Table2[VAIKUTUS (1-10)]) -> 6
G12: 4 | H12: =MAX(0,SQRT('Riskien luokittelu'!$K$17)/SQRT('Riskien luokittelu'!$K$17)*(SQRT('Riskien luokittelu'!$K$17)-G12)) -> 2 | J12: 4 | K12: =MAX(0,SQRT('Riskien luokittelu'!$K$18)/SQRT('Riskien luokittelu'!$K$18)*(SQRT('Riskien luokittelu'!$K$18)-J12)-H12) -> 3 | M12: 4 | N12: =10-H12-K12 -> 5 | Q12: R5 | R12: =_xlfn.XLOOKUP(Q12,Table2[Index],Table2[TODENNÄKÖISYYS (1-10)])+1 -> 7 | S12: =_xlfn.XLOOKUP(DATA!Q12,Table2[Index],Table2[VAIKUTUS (1-10)]) -> 3
G13: 5 | H13: =MAX(0,SQRT('Riskien luokittelu'!$K$17)/SQRT('Riskien luokittelu'!$K$17)*(SQRT('Riskien luokittelu'!$K$17)-G13)) -> 1 | J13: 5 | K13: =MAX(0,SQRT('Riskien luokittelu'!$K$18)/SQRT('Riskien luokittelu'!$K$18)*(SQRT('Riskien luokittelu'!$K$18)-J13)-H13) -> 3 | M13: 5 | N13: =10-H13-K13 -> 6 | Q13: R6 | R13: =_xlfn.XLOOKUP(Q13,Table2[Index],Table2[TODENNÄKÖISYYS (1-10)])+1 -> 7 | S13: =_xlfn.XLOOKUP(DATA!Q13,Table2[Index],Table2[VAIKUTUS (1-10)]) -> 4.5
G14: 6 | H14: =MAX(0,SQRT('Riskien luokittelu'!$K$17)/SQRT('Riskien luokittelu'!$K$17)*(SQRT('Riskien luokittelu'!$K$17)-G14)) -> 0 | J14: 6 | K14: =MAX(0,SQRT('Riskien luokittelu'!$K$18)/SQRT('Riskien luokittelu'!$K$18)*(SQRT('Riskien luokittelu'!$K$18)-J14)-H14) -> 3 | M14: 6 | N14: =10-H14-K14 -> 7 | Q14: R7 | R14: =_xlfn.XLOOKUP(Q14,Table2[Index],Table2[TODENNÄKÖISYYS (1-10)])+1 -> 4 | S14: =_xlfn.XLOOKUP(DATA!Q14,Table2[Index],Table2[VAIKUTUS (1-10)]) -> 3
G15: 7 | H15: =MAX(0,SQRT('Riskien luokittelu'!$K$17)/SQRT('Riskien luokittelu'!$K$17)*(SQRT('Riskien luokittelu'!$K$17)-G15)) -> 0 | J15: 7 | K15: =MAX(0,SQRT('Riskien luokittelu'!$K$18)/SQRT('Riskien luokittelu'!$K$18)*(SQRT('Riskien luokittelu'!$K$18)-J15)-H15) -> 2 | M15: 7 | N15: =10-H15-K15 -> 8 | Q15: R8 | R15: =_xlfn.XLOOKUP(Q15,Table2[Index],Table2[TODENNÄKÖISYYS (1-10)])+1 -> 3 | S15: =_xlfn.XLOOKUP(DATA!Q15,Table2[Index],Table2[VAIKUTUS (1-10)]) -> 4.5
G16: 8 | H16: =MAX(0,SQRT('Riskien luokittelu'!$K$17)/SQRT('Riskien luokittelu'!$K$17)*(SQRT('Riskien luokittelu'!$K$17)-G16)) -> 0 | J16: 8 | K16: =MAX(0,SQRT('Riskien luokittelu'!$K$18)/SQRT('Riskien luokittelu'!$K$18)*(SQRT('Riskien luokittelu'!$K$18)-J16)-H16) -> 1 | M16: 8 | N16: =10-H16-K16 -> 9 | Q16: R9 | R16: =_xlfn.XLOOKUP(Q16,Table2[Index],Table2[TODENNÄKÖISYYS (1-10)])+1 -> 6.5 | S16: =_xlfn.XLOOKUP(DATA!Q16,Table2[Index],Table2[VAIKUTUS (1-10)]) -> 6
G17: 9 | H17: =MAX(0,SQRT('Riskien luokittelu'!$K$17)/SQRT('Riskien luokittelu'!$K$17)*(SQRT('Riskien luokittelu'!$K$17)-G17)) -> 0 | J17: 9 | K17: =MAX(0,SQRT('Riskien luokittelu'!$K$18)/SQRT('Riskien luokittelu'!$K$18)*(SQRT('Riskien luokittelu'!$K$18)-J17)-H17) -> 0 | M17: 9 | N17: =10-H17-K17 -> 10 | Q17: R10 | R17: =_xlfn.XLOOKUP(Q17,Table2[Index],Table2[TODENNÄKÖISYYS (1-10)])+1 -> 4 | S17: =_xlfn.XLOOKUP(DATA!Q17,Table2[Index],Table2[VAIKUTUS (1-10)]) -> 4
G18: 10 | H18: =MAX(0,SQRT('Riskien luokittelu'!$K$17)/SQRT('Riskien luokittelu'!$K$17)*(SQRT('Riskien luokittelu'!$K$17)-G18)) -> 0 | J18: 10 | K18: =MAX(0,SQRT('Riskien luokittelu'!$K$18)/SQRT('Riskien luokittelu'!$K$18)*(SQRT('Riskien luokittelu'!$K$18)-J18)-H18) -> 0 | M18: 10 | N18: =10-H18-K18 -> 10 | Q18: R11 | R18: =_xlfn.XLOOKUP(Q18,Table2[Index],Table2[TODENNÄKÖISYYS (1-10)])+1 -> 7.5 | S18: =_xlfn.XLOOKUP(DATA!Q18,Table2[Index],Table2[VAIKUTUS (1-10)]) -> 3
Q19: R12 | R19: =_xlfn.XLOOKUP(Q19,Table2[Index],Table2[TODENNÄKÖISYYS (1-10)])+1 -> 8 | S19: =_xlfn.XLOOKUP(DATA!Q19,Table2[Index],Table2[VAIKUTUS (1-10)]) -> 3.6666667
Q20: R13 | R20: =_xlfn.XLOOKUP(Q20,Table2[Index],Table2[TODENNÄKÖISYYS (1-10)])+1 -> 9 | S20: =_xlfn.XLOOKUP(DATA!Q20,Table2[Index],Table2[VAIKUTUS (1-10)]) -> 5.5
Q21: R14 | R21: =_xlfn.XLOOKUP(Q21,Table2[Index],Table2[TODENNÄKÖISYYS (1-10)])+1 -> 3.5 | S21: =_xlfn.XLOOKUP(DATA!Q21,Table2[Index],Table2[VAIKUTUS (1-10)]) -> 8.5
Q22: R15 | R22: =_xlfn.XLOOKUP(Q22,Table2[Index],Table2[TODENNÄKÖISYYS (1-10)])+1 -> 3.3333333 | S22: =_xlfn.XLOOKUP(DATA!Q22,Table2[Index],Table2[VAIKUTUS (1-10)]) -> 5.6666667
Q23: R16 | R23: =_xlfn.XLOOKUP(Q23,Table2[Index],Table2[TODENNÄKÖISYYS (1-10)])+1 -> 2.5 | S23: =_xlfn.XLOOKUP(DATA!Q23,Table2[Index],Table2[VAIKUTUS (1-10)]) -> 9.5
Q24: R17 | R24: =_xlfn.XLOOKUP(Q24,Table2[Index],Table2[TODENNÄKÖISYYS (1-10)])+1 -> 3.3333333 | S24: =_xlfn.XLOOKUP(DATA!Q24,Table2[Index],Table2[VAIKUTUS (1-10)]) -> 2.3333333
Q25: R18 | R25: =_xlfn.XLOOKUP(Q25,Table2[Index],Table2[TODENNÄKÖISYYS (1-10)])+1 -> 3.3333333 | S25: =_xlfn.XLOOKUP(DATA!Q25,Table2[Index],Table2[VAIKUTUS (1-10)]) -> 2.3333333
Q26: R19 | R26: =_xlfn.XLOOKUP(Q26,Table2[Index],Table2[TODENNÄKÖISYYS (1-10)])+1 -> 3 | S26: =_xlfn.XLOOKUP(DATA!Q26,Table2[Index],Table2[VAIKUTUS (1-10)]) -> 2
Q27: R20 | R27: =_xlfn.XLOOKUP(Q27,Table2[Index],Table2[TODENNÄKÖISYYS (1-10)])+1 -> 3 | S27: =_xlfn.XLOOKUP(DATA!Q27,Table2[Index],Table2[VAIKUTUS (1-10)]) -> 2
Q28: R21 | R28: =_xlfn.XLOOKUP(Q28,Table2[Index],Table2[TODENNÄKÖISYYS (1-10)])+1 -> 3 | S28: =_xlfn.XLOOKUP(DATA!Q28,Table2[Index],Table2[VAIKUTUS (1-10)]) -> 2
G31: X | H31: Y | J31: X | K31: Y | M31: X | N31: Y | Q31: R1 | R31: =_xlfn.XLOOKUP(Q31,Table5[INDEX],Table5[TODENNÄKÖISYYS (1-10)])+1 -> 2.3333333 | S31: =_xlfn.XLOOKUP(Q31,Table5[INDEX],Table5[VAIKUTUS (1-10)]) -> 1
G32: 0 | H32: =MAX(0,SQRT('Riskien luokittelu'!$I$100)/SQRT('Riskien luokittelu'!$I$100)*(SQRT('Riskien luokittelu'!$I$100)-G32)) -> 5 | J32: 0 | K32: =MAX(0,SQRT('Riskien luokittelu'!$I$101)/SQRT('Riskien luokittelu'!$I$101)*(SQRT('Riskien luokittelu'!$I$101)-J32)-H32) -> 5 | M32: 0 | N32: =10-H32-K32 -> 0 | Q32: R2 | R32: =_xlfn.XLOOKUP(Q32,Table5[INDEX],Table5[TODENNÄKÖISYYS (1-10)])+1 -> 3 | S32: =_xlfn.XLOOKUP(Q32,Table5[INDEX],Table5[VAIKUTUS (1-10)]) -> 2
G33: 1 | H33: =MAX(0,SQRT('Riskien luokittelu'!$I$100)/SQRT('Riskien luokittelu'!$I$100)*(SQRT('Riskien luokittelu'!$I$100)-G33)) -> 4 | J33: 1 | K33: =MAX(0,SQRT('Riskien luokittelu'!$I$101)/SQRT('Riskien luokittelu'!$I$101)*(SQRT('Riskien luokittelu'!$I$101)-J33)-H33) -> 5 | M33: 1 | N33: =10-H33-K33 -> 1 | Q33: R3 | R33: =_xlfn.XLOOKUP(Q33,Table5[INDEX],Table5[TODENNÄKÖISYYS (1-10)])+1 -> 9.5 | S33: =_xlfn.XLOOKUP(Q33,Table5[INDEX],Table5[VAIKUTUS (1-10)]) -> 2
G34: 2 | H34: =MAX(0,SQRT('Riskien luokittelu'!$I$100)/SQRT('Riskien luokittelu'!$I$100)*(SQRT('Riskien luokittelu'!$I$100)-G34)) -> 3 | J34: 2 | K34: =MAX(0,SQRT('Riskien luokittelu'!$I$101)/SQRT('Riskien luokittelu'!$I$101)*(SQRT('Riskien luokittelu'!$I$101)-J34)-H34) -> 5 | M34: 2 | N34: =10-H34-K34 -> 2 | Q34: R4 | R34: =_xlfn.XLOOKUP(Q34,Table5[INDEX],Table5[TODENNÄKÖISYYS (1-10)])+1 -> 10.5 | S34: =_xlfn.XLOOKUP(Q34,Table5[INDEX],Table5[VAIKUTUS (1-10)]) -> 3
G35: 3 | H35: =MAX(0,SQRT('Riskien luokittelu'!$I$100)/SQRT('Riskien luokittelu'!$I$100)*(SQRT('Riskien luokittelu'!$I$100)-G35)) -> 2 | J35: 3 | K35: =MAX(0,SQRT('Riskien luokittelu'!$I$101)/SQRT('Riskien luokittelu'!$I$101)*(SQRT('Riskien luokittelu'!$I$101)-J35)-H35) -> 5 | M35: 3 | N35: =10-H35-K35 -> 3 | Q35: R5 | R35: =_xlfn.XLOOKUP(Q35,Table5[INDEX],Table5[TODENNÄKÖISYYS (1-10)])+1 -> 3 | S35: =_xlfn.XLOOKUP(Q35,Table5[INDEX],Table5[VAIKUTUS (1-10)]) -> 2
G36: 4 | H36: =MAX(0,SQRT('Riskien luokittelu'!$I$100)/SQRT('Riskien luokittelu'!$I$100)*(SQRT('Riskien luokittelu'!$I$100)-G36)) -> 1 | J36: 4 | K36: =MAX(0,SQRT('Riskien luokittelu'!$I$101)/SQRT('Riskien luokittelu'!$I$101)*(SQRT('Riskien luokittelu'!$I$101)-J36)-H36) -> 5 | M36: 4 | N36: =10-H36-K36 -> 4 | Q36: R6 | R36: =_xlfn.XLOOKUP(Q36,Table5[INDEX],Table5[TODENNÄKÖISYYS (1-10)])+1 -> 7.6666667 | S36: =_xlfn.XLOOKUP(Q36,Table5[INDEX],Table5[VAIKUTUS (1-10)]) -> 6.6666667
G37: 5 | H37: =MAX(0,SQRT('Riskien luokittelu'!$I$100)/SQRT('Riskien luokittelu'!$I$100)*(SQRT('Riskien luokittelu'!$I$100)-G37)) -> 0 | J37: 5 | K37: =MAX(0,SQRT('Riskien luokittelu'!$I$101)/SQRT('Riskien luokittelu'!$I$101)*(SQRT('Riskien luokittelu'!$I$101)-J37)-H37) -> 5 | M37: 5 | N37: =10-H37-K37 -> 5 | Q37: R7 | R37: =_xlfn.XLOOKUP(Q37,Table5[INDEX],Table5[TODENNÄKÖISYYS (1-10)])+1 -> 8 | S37: =_xlfn.XLOOKUP(Q37,Table5[INDEX],Table5[VAIKUTUS (1-10)]) -> 9.5
G38: 6 | H38: =MAX(0,SQRT('Riskien luokittelu'!$I$100)/SQRT('Riskien luokittelu'!$I$100)*(SQRT('Riskien luokittelu'!$I$100)-G38)) -> 0 | J38: 6 | K38: =MAX(0,SQRT('Riskien luokittelu'!$I$101)/SQRT('Riskien luokittelu'!$I$101)*(SQRT('Riskien luokittelu'!$I$101)-J38)-H38) -> 4 | M38: 6 | N38: =10-H38-K38 -> 6 | Q38: R8 | R38: =_xlfn.XLOOKUP(Q38,Table5[INDEX],Table5[TODENNÄKÖISYYS (1-10)])+1 -> 4 | S38: =_xlfn.XLOOKUP(Q38,Table5[INDEX],Table5[VAIKUTUS (1-10)]) -> 3
G39: 7 | H39: =MAX(0,SQRT('Riskien luokittelu'!$I$100)/SQRT('Riskien luokittelu'!$I$100)*(SQRT('Riskien luokittelu'!$I$100)-G39)) -> 0 | J39: 7 | K39: =MAX(0,SQRT('Riskien luokittelu'!$I$101)/SQRT('Riskien luokittelu'!$I$101)*(SQRT('Riskien luokittelu'!$I$101)-J39)-H39) -> 3 | M39: 7 | N39: =10-H39-K39 -> 7 | Q39: R9 | R39: =_xlfn.XLOOKUP(Q39,Table5[INDEX],Table5[TODENNÄKÖISYYS (1-10)])+1 -> 4 | S39: =_xlfn.XLOOKUP(Q39,Table5[INDEX],Table5[VAIKUTUS (1-10)]) -> 4.5
G40: 8 | H40: =MAX(0,SQRT('Riskien luokittelu'!$I$100)/SQRT('Riskien luokittelu'!$I$100)*(SQRT('Riskien luokittelu'!$I$100)-G40)) -> 0 | J40: 8 | K40: =MAX(0,SQRT('Riskien luokittelu'!$I$101)/SQRT('Riskien luokittelu'!$I$101)*(SQRT('Riskien luokittelu'!$I$101)-J40)-H40) -> 2 | M40: 8 | N40: =10-H40-K40 -> 8 | Q40: R10 | R40: =_xlfn.XLOOKUP(Q40,Table5[INDEX],Table5[TODENNÄKÖISYYS (1-10)])+1 -> 6 | S40: =_xlfn.XLOOKUP(Q40,Table5[INDEX],Table5[VAIKUTUS (1-10)]) -> 2
G41: 9 | H41: =MAX(0,SQRT('Riskien luokittelu'!$I$100)/SQRT('Riskien luokittelu'!$I$100)*(SQRT('Riskien luokittelu'!$I$100)-G41)) -> 0 | J41: 9 | K41: =MAX(0,SQRT('Riskien luokittelu'!$I$101)/SQRT('Riskien luokittelu'!$I$101)*(SQRT('Riskien luokittelu'!$I$101)-J41)-H41) -> 1 | M41: 9 | N41: =10-H41-K41 -> 9 | Q41: R11 | R41: =_xlfn.XLOOKUP(Q41,Table5[INDEX],Table5[TODENNÄKÖISYYS (1-10)])+1 -> 3.5 | S41: =_xlfn.XLOOKUP(Q41,Table5[INDEX],Table5[VAIKUTUS (1-10)]) -> 3
G42: 10 | H42: =MAX(0,SQRT('Riskien luokittelu'!$I$100)/SQRT('Riskien luokittelu'!$I$100)*(SQRT('Riskien luokittelu'!$I$100)-G42)) -> 0 | J42: 10 | K42: =MAX(0,SQRT('Riskien luokittelu'!$I$101)/SQRT('Riskien luokittelu'!$I$101)*(SQRT('Riskien luokittelu'!$I$101)-J42)-H42) -> 0 | M42: 10 | N42: =10-H42-K42 -> 10 | Q42: R12 | R42: =_xlfn.XLOOKUP(Q42,Table5[INDEX],Table5[TODENNÄKÖISYYS (1-10)])+1 -> 5 | S42: =_xlfn.XLOOKUP(Q42,Table5[INDEX],Table5[VAIKUTUS (1-10)]) -> 2
Q43: R13 | R43: =_xlfn.XLOOKUP(Q43,Table5[INDEX],Table5[TODENNÄKÖISYYS (1-10)])+1 -> 5.5 | S43: =_xlfn.XLOOKUP(Q43,Table5[INDEX],Table5[VAIKUTUS (1-10)]) -> 3
Q44: R14 | R44: =_xlfn.XLOOKUP(Q44,Table5[INDEX],Table5[TODENNÄKÖISYYS (1-10)])+1 -> 3.5 | S44: =_xlfn.XLOOKUP(Q44,Table5[INDEX],Table5[VAIKUTUS (1-10)]) -> 7
Q45: R15 | R45: =_xlfn.XLOOKUP(Q45,Table5[INDEX],Table5[TODENNÄKÖISYYS (1-10)])+1 -> 4 | S45: =_xlfn.XLOOKUP(Q45,Table5[INDEX],Table5[VAIKUTUS (1-10)]) -> 3
Q46: R16 | R46: =_xlfn.XLOOKUP(Q46,Table5[INDEX],Table5[TODENNÄKÖISYYS (1-10)])+1 -> 2.5 | S46: =_xlfn.XLOOKUP(Q46,Table5[INDEX],Table5[VAIKUTUS (1-10)]) -> 2.5
Q47: R17 | R47: =_xlfn.XLOOKUP(Q47,Table5[INDEX],Table5[TODENNÄKÖISYYS (1-10)])+1 -> 3 | S47: =_xlfn.XLOOKUP(Q47,Table5[INDEX],Table5[VAIKUTUS (1-10)]) -> 2
Q48: R18 | R48: =_xlfn.XLOOKUP(Q48,Table5[INDEX],Table5[TODENNÄKÖISYYS (1-10)])+1 -> 3.5 | S48: =_xlfn.XLOOKUP(Q48,Table5[INDEX],Table5[VAIKUTUS (1-10)]) -> 2
...
