Workbook

Sheet Riskien luokittelu
A1: LÄMPENEMINEN
A2: ENNAKOINTI JA RESILIENSSI | B2: VASTAUS | C2: LISÄTIETOJA | G2: INPUT SOLUT -väri, älä muuta muita soluja
A3: Oletteko yrityksessänne miettineet / ennakoineet minkälaiset muutokset, uudet mahdollisuudet tai häiriöt voivat kohdistua yrityksenne toimintaan ilmastonlämpenemisen takia?
A4: Oletteko varautuneet näihin jollain tavoin?
A5: Tietolähteitä ilmastonlämpenemisestä?
A6: RISKIT | B6: TODENNÄKÖISYYS (1-10) | C6: VAIKUTUS (1-10) | D6: RISKILUOKKA | E6: Index
A7: Vesijärjestelmä, vesihuolto ja jätevesijärjestelmä | B7: =AVERAGE(B8:B10) -> 1.6666667 | C7: 3 | D7: {=_xlfn.IFS(B7+C7>=SQRT($K$18),3,B7+C7>=SQRT($K$17),2,B7+C7>=$K$16,1)} -> 1 | E7: R1
A8: Jätevesi | B8: 3 | C8: 1 | D8: {=_xlfn.IFS(B8+C8>=SQRT($K$18),3,B8+C8>=SQRT($K$17),2,B8+C8>=$K$16,1)} -> 1
A9: Veden saanti | B9: 1 | C9: 1 | D9: {=_xlfn.IFS(B9+C9>=SQRT($K$18),3,B9+C9>=SQRT($K$17),2,B9+C9>=$K$16,1)} -> 1
A10: Veden laatu | B10: 1 | C10: 3 | D10: {=_xlfn.IFS(B10+C10>=SQRT($K$18),3,B10+C10>=SQRT($K$17),2,B10+C10>=$K$16,1)} -> 1
A11: Sähkö- ja energiajärjestelmä | B11: =AVERAGE(B12:B13) -> 6 | C11: =AVERAGE(C12:C13) -> 4 | D11: {=_xlfn.IFS(B11+C11>=SQRT($K$18),3,B11+C11>=SQRT($K$17),2,B11+C11>=$K$16,1)} -> 3 | E11: R2
A12: Lyhyt sähkökatkos | B12: 9 | C12: 5 | D12: {=_xlfn.IFS(B12+C12>=SQRT($K$18),3,B12+C12>=SQRT($K$17),2,B12+C12>=$K$16,1)} -> 3
A13: Pitkä sähkökatkos | B13: 3 | C13: 3 | D13: {=_xlfn.IFS(B13+C13>=SQRT($K$18),3,B13+C13>=SQRT($K$17),2,B13+C13>=$K$16,1)} -> 2
A14: Jätehuolto | B14: =AVERAGE(B15:B16) -> 5.5 | C14: =AVERAGE(C15:C16) -> 5.5 | D14: {=_xlfn.IFS(B14+C14>=SQRT($K$18),3,B14+C14>=SQRT($K$17),2,B14+C14>=$K$16,1)} -> 3 | E14: R3
A15: Logistiset ongelmat | B15: 10 | C15: 8 | D15: {=_xlfn.IFS(B15+C15>=SQRT($K$18),3,B15+C15>=SQRT($K$17),2,B15+C15>=$K$16,1)} -> 3 | G15: Triagen luokat | H15: Alaraja (1-20) | J15: Triagen luokat | K15: Alaraja (0-200)
A16: Hygienia ja turvallisuus | B16: 1 | C16: 3 | D16: {=_xlfn.IFS(B16+C16>=SQRT($K$18),3,B16+C16>=SQRT($K$17),2,B16+C16>=$K$16,1)} -> 1 | G16: 1 | H16: 0 | J16: 1 | K16: 0
A17: Toiminta ilman internetyhteyttä | B17: =AVERAGE(B18:B19) -> 4.5 | C17: =AVERAGE(C18:C19) -> 6 | D17: {=_xlfn.IFS(B17+C17>=SQRT($K$18),3,B17+C17>=SQRT($K$17),2,B17+C17>=$K$16,1)} -> 3 | E17: R4 | G17: 2 | H17: 6 | J17: 2 | K17: =$H$17*$H$17 -> 36
A18: Tuotannonohjausjärjestelmän katkos | B18: 6 | C18: 9 | D18: {=_xlfn.IFS(B18+C18>=SQRT($K$18),3,B18+C18>=SQRT($K$17),2,B18+C18>=$K$16,1)} -> 3 | G18: 3 | H18: 9 | J18: 3 | K18: =$H$18*$H$18 -> 81
A19: Kommunikaatio | B19: 3 | C19: 3 | D19: {=_xlfn.IFS(B19+C19>=SQRT($K$18),3,B19+C19>=SQRT($K$17),2,B19+C19>=$K$16,1)} -> 2
A20: Muu tietoliikennehäiriö | B20: =AVERAGE(B21:B22) -> 6 | C20: =AVERAGE(C21:C22) -> 3 | D20: {=_xlfn.IFS(B20+C20>=SQRT($K$18),3,B20+C20>=SQRT($K$17),2,B20+C20>=$K$16,1)} -> 3 | E20: R5
A21: Automaatiojärjestelmät | B21: 9 | C21: 3 | D21: {=_xlfn.IFS(B21+C21>=SQRT($K$18),3,B21+C21>=SQRT($K$17),2,B21+C21>=$K$16,1)} -> 3
A22: Kyberturvallisuus | B22: 3 | C22: 3 | D22: {=_xlfn.IFS(B22+C22>=SQRT($K$18),3,B22+C22>=SQRT($K$17),2,B22+C22>=$K$16,1)} -> 2
A23: Tuotantopanosten kustannukset | B23: =AVERAGE(B24:B25) -> 6 | C23: =AVERAGE(C24:C25) -> 4.5 | D23: {=_xlfn.IFS(B23+C23>=SQRT($K$18),3,B23+C23>=SQRT($K$17),2,B23+C23>=$K$16,1)} -> 3 | E23: R6
A24: Energia ja polttoaine | B24: 9 | C24: 6 | D24: {=_xlfn.IFS(B24+C24>=SQRT($K$18),3,B24+C24>=SQRT($K$17),2,B24+C24>=$K$16,1)} -> 3
A25: Tuotannon raaka-aineet | B25: 3 | C25: 3 | D25: {=_xlfn.IFS(B25+C25>=SQRT($K$18),3,B25+C25>=SQRT($K$17),2,B25+C25>=$K$16,1)} -> 2
A26: Esikäsittelyn ja valmistuksen riskienhallinta | B26: =AVERAGE(B27:B28) -> 3 | C26: =AVERAGE(C27:C28) -> 3 | D26: {=_xlfn.IFS(B26+C26>=SQRT($K$18),3,B26+C26>=SQRT($K$17),2,B26+C26>=$K$16,1)} -> 2 | E26: R7
A27: Olosuhteiden vaihtelu (lämpötila ja kosteus) | B27: 3 | C27: 3 | D27: {=_xlfn.IFS(B27+C27>=SQRT($K$18),3,B27+C27>=SQRT($K$17),2,B27+C27>=$K$16,1)} -> 2
A28: Laitteisto | B28: 3 | C28: 3 | D28: {=_xlfn.IFS(B28+C28>=SQRT($K$18),3,B28+C28>=SQRT($K$17),2,B28+C28>=$K$16,1)} -> 2
A29: Elintarviketuotteiden säilytys ja varastointi | B29: =AVERAGE(B30:B31) -> 2 | C29: =AVERAGE(C30:C31) -> 4.5 | D29: {=_xlfn.IFS(B29+C29>=SQRT($K$18),3,B29+C29>=SQRT($K$17),2,B29+C29>=$K$16,1)} -> 2 | E29: R8
A30: lämpötila ja kosteus | B30: 3 | C30: 6 | D30: {=_xlfn.IFS(B30+C30>=SQRT($K$18),3,B30+C30>=SQRT($K$17),2,B30+C30>=$K$16,1)} -> 3
A31: Sähkökatkot | B31: 1 | C31: 3 | D31: {=_xlfn.IFS(B31+C31>=SQRT($K$18),3,B31+C31>=SQRT($K$17),2,B31+C31>=$K$16,1)} -> 1
A32: Henkilöstön osaaminen varautumisessa | B32: =AVERAGE(B33:B34) -> 5.5 | C32: =AVERAGE(C33:C34) -> 6 | D32: {=_xlfn.IFS(B32+C32>=SQRT($K$18),3,B32+C32>=SQRT($K$17),2,B32+C32>=$K$16,1)} -> 3 | E32: R9
A33: Puutteellinen koulutus | B33: 3 | C33: 9 | D33: {=_xlfn.IFS(B33+C33>=SQRT($K$18),3,B33+C33>=SQRT($K$17),2,B33+C33>=$K$16,1)} -> 3
A34: Rippuvuus yksittäisistä avainhenkilöistä | B34: 8 | C34: 3 | D34: {=_xlfn.IFS(B34+C34>=SQRT($K$18),3,B34+C34>=SQRT($K$17),2,B34+C34>=$K$16,1)} -> 3
A35: Henkinen kuormittuminen (ristiriidat) | B35: =AVERAGE(B36:B37) -> 3 | C35: =AVERAGE(C36:C37) -> 4 | D35: {=_xlfn.IFS(B35+C35>=SQRT($K$18),3,B35+C35>=SQRT($K$17),2,B35+C35>=$K$16,1)} -> 2 | E35: R10
A36: Vastuun jakautuminen | B36: 3 | C36: 5 | D36: {=_xlfn.IFS(B36+C36>=SQRT($K$18),3,B36+C36>=SQRT($K$17),2,B36+C36>=$K$16,1)} -> 2
A37: Sisäiset konfliktit | B37: 3 | C37: 3 | D37: {=_xlfn.IFS(B37+C37>=SQRT($K$18),3,B37+C37>=SQRT($K$17),2,B37+C37>=$K$16,1)} -> 2
A38: Vieraslajit | B38: =AVERAGE(B39:B40) -> 6.5 | C38: =AVERAGE(C39:C40) -> 3 | D38: {=_xlfn.IFS(B38+C38>=SQRT($K$18),3,B38+C38>=SQRT($K$17),2,B38+C38>=$K$16,1)} -> 3 | E38: R11
A39: Sadon menetykset | B39: 10 | C39: 2 | D39: {=_xlfn.IFS(B39+C39>=SQRT($K$18),3,B39+C39>=SQRT($K$17),2,B39+C39>=$K$16,1)} -> 3
A40: Vanhojen lajien syrjäyttäminen | B40: 3 | C40: 4 | D40: {=_xlfn.IFS(B40+C40>=SQRT($K$18),3,B40+C40>=SQRT($K$17),2,B40+C40>=$K$16,1)} -> 2
A41: Sään ääri-ilmiöiden vaikutus viljelyihin | B41: =AVERAGE(B42:B44) -> 7 | C41: =AVERAGE(C42:C44) -> 3.6666667 | D41: {=_xlfn.IFS(B41+C41>=SQRT($K$18),3,B41+C41>=SQRT($K$17),2,B41+C41>=$K$16,1)} -> 3 | E41: R12
A42: Rankkasateet | B42: 3 | C42: 7 | D42: {=_xlfn.IFS(B42+C42>=SQRT($K$18),3,B42+C42>=SQRT($K$17),2,B42+C42>=$K$16,1)} -> 3
A43: Tulvat | B43: 9 | C43: 2 | D43: {=_xlfn.IFS(B43+C43>=SQRT($K$18),3,B43+C43>=SQRT($K$17),2,B43+C43>=$K$16,1)} -> 3
A44: Myrskyt | B44: 9 | C44: 2 | D44: {=_xlfn.IFS(B44+C44>=SQRT($K$18),3,B44+C44>=SQRT($K$17),2,B44+C44>=$K$16,1)} -> 3
A45: Pidentynyt kasvukausi | B45: =AVERAGE(B46:B47) -> 8 | C45: =AVERAGE(C46:C47) -> 5.5 | D45: {=_xlfn.IFS(B45+C45>=SQRT($K$18),3,B45+C45>=SQRT($K$17),2,B45+C45>=$K$16,1)} -> 3 | E45: R13
A46: Uudet lajikkeet | B46: 9 | C46: 3 | D46: {=_xlfn.IFS(B46+C46>=SQRT($K$18),3,B46+C46>=SQRT($K$17),2,B46+C46>=$K$16,1)} -> 3
A47: Suurempi sato | B47: 7 | C47: 8 | D47: {=_xlfn.IFS(B47+C47>=SQRT($K$18),3,B47+C47>=SQRT($K$17),2,B47+C47>=$K$16,1)} -> 3
A48: Kuivuuden lisääntyminen | B48: =AVERAGE(B49:B50) -> 2.5 | C48: =AVERAGE(C49:C50) -> 8.5 | D48: {=_xlfn.IFS(B48+C48>=SQRT($K$18),3,B48+C48>=SQRT($K$17),2,B48+C48>=$K$16,1)} -> 3 | E48: R14
A49: Veden tarve | B49: 2 | C49: 9 | D49: {=_xlfn.IFS(B49+C49>=SQRT($K$18),3,B49+C49>=SQRT($K$17),2,B49+C49>=$K$16,1)} -> 3
A50: Vaikutus viljelmiin | B50: 3 | C50: 8 | D50: {=_xlfn.IFS(B50+C50>=SQRT($K$18),3,B50+C50>=SQRT($K$17),2,B50+C50>=$K$16,1)} -> 3
A51: Lämpöstressi eläimille | B51: =AVERAGE(B52:B54) -> 2.3333333 | C51: =AVERAGE(C52:C54) -> 5.6666667 | D51: {=_xlfn.IFS(B51+C51>=SQRT($K$18),3,B51+C51>=SQRT($K$17),2,B51+C51>=$K$16,1)} -> 2 | E51: R15
A52: Tuottavuuden heikkeneminen | B52: 1 | C52: 8 | D52: {=_xlfn.IFS(B52+C52>=SQRT($K$18),3,B52+C52>=SQRT($K$17),2,B52+C52>=$K$16,1)} -> 3
A53: Jäähdytys ja ilmanvaihto kustannukset | B53: 3 | C53: 7 | D53: {=_xlfn.IFS(B53+C53>=SQRT($K$18),3,B53+C53>=SQRT($K$17),2,B53+C53>=$K$16,1)} -> 3
A54: Kulleisuuden kasvu | B54: 3 | C54: 2 | D54: {=_xlfn.IFS(B54+C54>=SQRT($K$18),3,B54+C54>=SQRT($K$17),2,B54+C54>=$K$16,1)} -> 1
A55: Rehutuotannon epävarmuus | B55: =AVERAGE(B56:B57) -> 1.5 | C55: =AVERAGE(C56:C57) -> 9.5 | D55: {=_xlfn.IFS(B55+C55>=SQRT($K$18),3,B55+C55>=SQRT($K$17),2,B55+C55>=$K$16,1)} -> 3 | E55: R16
A56: Tuontirehun kustannukset | B56: 1 | C56: 9 | D56: {=_xlfn.IFS(B56+C56>=SQRT($K$18),3,B56+C56>=SQRT($K$17),2,B56+C56>=$K$16,1)} -> 3
A57: Rehun lajikkeen vaihto | B57: 2 | C57: 10 | D57: {=_xlfn.IFS(B57+C57>=SQRT($K$18),3,B57+C57>=SQRT($K$17),2,B57+C57>=$K$16,1)} -> 3
A58: Kuluttajakäyttäytymisen muutokset | B58: =AVERAGE(B59:B61) -> 2.3333333 | C58: =AVERAGE(C59:C61) -> 2.3333333 | D58: {=_xlfn.IFS(B58+C58>=SQRT($K$18),3,B58+C58>=SQRT($K$17),2,B58+C58>=$K$16,1)} -> 1 | E58: R17
A59: Uusien tuotteiden kehitys | B59: 2 | C59: 2 | D59: {=_xlfn.IFS(B59+C59>=SQRT($K$18),3,B59+C59>=SQRT($K$17),2,B59+C59>=$K$16,1)} -> 1
A60: Kysynnän väheneminen tietyissä tuotteissa | B60: 2 | C60: 2 | D60: {=_xlfn.IFS(B60+C60>=SQRT($K$18),3,B60+C60>=SQRT($K$17),2,B60+C60>=$K$16,1)} -> 1
A61: Brändi | B61: 3 | C61: 3 | D61: {=_xlfn.IFS(B61+C61>=SQRT($K$18),3,B61+C61>=SQRT($K$17),2,B61+C61>=$K$16,1)} -> 2
A62: Ympäristövaikutukset ja lainsäädännön vaatimukset | B62: =AVERAGE(B63:B65) -> 2.3333333 | C62: =AVERAGE(C63:C65) -> 2.3333333 | D62: {=_xlfn.IFS(B62+C62>=SQRT($K$18),3,B62+C62>=SQRT($K$17),2,B62+C62>=$K$16,1)} -> 1 | E62: R18
A63: Tiukentuvat päästö ja jätehuolto vaatimukset | B63: 2 | C63: 2 | D63: {=_xlfn.IFS(B63+C63>=SQRT($K$18),3,B63+C63>=SQRT($K$17),2,B63+C63>=$K$16,1)} -> 1
A64: Investoinnin tarve | B64: 2 | C64: 2 | D64: {=_xlfn.IFS(B64+C64>=SQRT($K$18),3,B64+C64>=SQRT($K$17),2,B64+C64>=$K$16,1)} -> 1
A65: Seuraamusriskit | B65: 3 | C65: 3 | D65: {=_xlfn.IFS(B65+C65>=SQRT($K$18),3,B65+C65>=SQRT($K$17),2,B65+C65>=$K$16,1)} -> 2
A66: Ilmastonsuojelu | B66: =AVERAGE(B67:B68) -> 2 | C66: =AVERAGE(C67:C68) -> 2 | D66: {=_xlfn.IFS(B66+C66>=SQRT($K$18),3,B66+C66>=SQRT($K$17),2,B66+C66>=$K$16,1)} -> 1 | E66: R19
A67: Hiilijalanjäljen seuranta- ja raportointi vaatimukset | B67: 2 | C67: 2 | D67: {=_xlfn.IFS(B67+C67>=SQRT($K$18),3,B67+C67>=SQRT($K$17),2,B67+C67>=$K$16,1)} -> 1
A68: Tarve vähentää energiankulutusta | B68: 2 | C68: 2 | D68: {=_xlfn.IFS(B68+C68>=SQRT($K$18),3,B68+C68>=SQRT($K$17),2,B68+C68>=$K$16,1)} -> 1
A69: Uusiutuvien luonnonvarojen käytön edistäminen | B69: =AVERAGE(B70:B71) -> 2 | C69: =AVERAGE(C70:C71) -> 2 | D69: {=_xlfn.IFS(B69+C69>=SQRT($K$18),3,B69+C69>=SQRT($K$17),2,B69+C69>=$K$16,1)} -> 1 | E69: R20
A70: Kierrätys | B70: 2 | C70: 2 | D70: {=_xlfn.IFS(B70+C70>=SQRT($K$18),3,B70+C70>=SQRT($K$17),2,B70+C70>=$K$16,1)} -> 1
A71: Investoinnin tarve | B71: 2 | C71: 2 | D71: {=_xlfn.IFS(B71+C71>=SQRT($K$18),3,B71+C71>=SQRT($K$17),2,B71+C71>=$K$16,1)} -> 1
A72: Työvoiman saatavuus | B72: =AVERAGE(B73:B74) -> 2 | C72: =AVERAGE(C73:C74) -> 2 | D72: {=_xlfn.IFS(B72+C72>=SQRT($K$18),3,B72+C72>=SQRT($K$17),2,B72+C72>=$K$16,1)} -> 1 | E72: R21
A73: Henkilöstön sitouttaminen | B73: 2 | C73: 2 | D73: {=_xlfn.IFS(B73+C73>=SQRT($K$18),3,B73+C73>=SQRT($K$17),2,B73+C73>=$K$16,1)} -> 1
A74: Työntekijämarkkinan kilpailu | B74: 2 | C74: 2 | D74: {=_xlfn.IFS(B74+C74>=SQRT($K$18),3,B74+C74>=SQRT($K$17),2,B74+C74>=$K$16,1)} -> 1
A78: KYLMENEMINEN
A79: ENNAKOINTI JA RESILIENSSI | B79: VASTAUS | C79: LISÄTIETOJA
A80: Oletteko yrityksessänne miettineet / ennakoineet minkälaiset muutokset, uudet mahdollisuudet tai häiriöt voivat kohdistua yrityksenne toimintaan ilmastonmuutoksen takia?
A81: Oletteko varautuneet näihin jollain tavoin?
A82: Tietolähteitä ilmastonmuutoksessa?
A83: RISKIT | B83: TODENNÄKÖISYYS (1-10) | C83: VAIKUTUS (1-10) | D83: RISKILUOKKA | E83: INDEX
A84: Vesijärjestelmä, vesihuolto ja jätevesijärjestelmä | B84: =AVERAGE(B85:B87) -> 1.3333333 | C84: =AVERAGE(C85:C87) -> 1 | D84: {=_xlfn.IFS(B84+C84>=SQRT($K$18),3,B84+C84>=SQRT($K$17),2,B84+C84>=$K$16,1)} -> 1 | E84: R1
A85: Jätevesi | B85: 2 | C85: 1 | D85: {=_xlfn.IFS(B85+C85>=SQRT($K$18),3,B85+C85>=SQRT($K$17),2,B85+C85>=$K$16,1)} -> 1 | G85: Triagen luokat | H85: Alaraja (1-20)
A86: Veden saanti | B86: 1 | C86: 1 | D86: {=_xlfn.IFS(B86+C86>=SQRT($K$18),3,B86+C86>=SQRT($K$17),2,B86+C86>=$K$16,1)} -> 1 | G86: 1 | H86: 0
A87: Veden laatu | B87: 1 | C87: 1 | D87: {=_xlfn.IFS(B87+C87>=SQRT($K$18),3,B87+C87>=SQRT($K$17),2,B87+C87>=$K$16,1)} -> 1 | G87: 2 | H87: 5
A88: Sähkö- ja energiajärjestelmä | B88: =AVERAGE(B89:B90) -> 2 | C88: =AVERAGE(C89:C90) -> 2 | D88: {=_xlfn.IFS(B88+C88>=SQRT($K$18),3,B88+C88>=SQRT($K$17),2,B88+C88>=$K$16,1)} -> 1 | E88: R2 | G88: 3 | H88: 10
A89: Lyhyt sähkökatkos | B89: 2 | C89: 2 | D89: {=_xlfn.IFS(B89+C89>=SQRT($K$18),3,B89+C89>=SQRT($K$17),2,B89+C89>=$K$16,1)} -> 1
A90: Pitkä sähkökatkos | B90: 2 | C90: 2 | D90: {=_xlfn.IFS(B90+C90>=SQRT($K$18),3,B90+C90>=SQRT($K$17),2,B90+C90>=$K$16,1)} -> 1
A91: Jätehuolto | B91: =AVERAGE(B92:B93) -> 8.5 | C91: =AVERAGE(C92:C93) -> 2 | D91: {=_xlfn.IFS(B91+C91>=SQRT($K$18),3,B91+C91>=SQRT($K$17),2,B91+C91>=$K$16,1)} -> 3 | E91: R3
A92: Logistiset ongelmat | B92: 8 | C92: 2 | D92: {=_xlfn.IFS(B92+C92>=SQRT($K$18),3,B92+C92>=SQRT($K$17),2,B92+C92>=$K$16,1)} -> 3
A93: Hygienia ja turvallisuus | B93: 9 | C93: 2 | D93: {=_xlfn.IFS(B93+C93>=SQRT($K$18),3,B93+C93>=SQRT($K$17),2,B93+C93>=$K$16,1)} -> 3
A94: Toiminta ilman internetyhteyttä | B94: =AVERAGE(B95:B96) -> 9.5 | C94: =AVERAGE(C95:C96) -> 3 | D94: {=_xlfn.IFS(B94+C94>=SQRT($K$18),3,B94+C94>=SQRT($K$17),2,B94+C94>=$K$16,1)} -> 3 | E94: R4
A95: Tuotannonohjausjärjestelmän katkos | B95: 9 | C95: 4 | D95: {=_xlfn.IFS(B95+C95>=SQRT($K$18),3,B95+C95>=SQRT($K$17),2,B95+C95>=$K$16,1)} -> 3
A96: Kommunikaatio | B96: 10 | C96: 2 | D96: {=_xlfn.IFS(B96+C96>=SQRT($K$18),3,B96+C96>=SQRT($K$17),2,B96+C96>=$K$16,1)} -> 3
A97: Muu tietoliikennehäiriö | B97: =AVERAGE(B98:B99) -> 2 | C97: =AVERAGE(C98:C99) -> 2 | D97: {=_xlfn.IFS(B97+C97>=SQRT($K$18),3,B97+C97>=SQRT($K$17),2,B97+C97>=$K$16,1)} -> 1 | E97: R5
A98: Automaatiojärjestelmät | B98: 2 | C98: 2 | D98: {=_xlfn.IFS(B98+C98>=SQRT($K$18),3,B98+C98>=SQRT($K$17),2,B98+C98>=$K$16,1)} -> 1 | H98: Triagen luokat | I98: Alaraja (0-200)
A99: Kyberturvallisuus | B99: 2 | C99: 2 | D99: {=_xlfn.IFS(B99+C99>=SQRT($K$18),3,B99+C99>=SQRT($K$17),2,B99+C99>=$K$16,1)} -> 1 | H99: 1 | I99: 0
A100: Kuljetus- ja logistiikkaketjut | B100: =AVERAGE(B101:B103) -> 6.6666667 | C100: =AVERAGE(C101:C103) -> 6.6666667 | D100: {=_xlfn.IFS(B100+C100>=SQRT($K$18),3,B100+C100>=SQRT($K$17),2,B100+C100>=$K$16,1)} -> 3 | E100: R6 | H100: 2 | I100: =$H$87*$H$87 -> 25
A101: Kylmäketju | B101: 9 | C101: 9 | D101: {=_xlfn.IFS(B101+C101>=SQRT($K$18),3,B101+C101>=SQRT($K$17),2,B101+C101>=$K$16,1)} -> 3 | H101: 3 | I101: =$H$88*$H$88 -> 100
A102: Polttoaineen hinta ja saatavuus | B102: 9 | C102: 9 | D102: {=_xlfn.IFS(B102+C102>=SQRT($K$18),3,B102+C102>=SQRT($K$17),2,B102+C102>=$K$16,1)} -> 3
A103: Tie- ja raideliikenteen häiriöt | B103: 2 | C103: 2 | D103: {=_xlfn.IFS(B103+C103>=SQRT($K$18),3,B103+C103>=SQRT($K$17),2,B103+C103>=$K$16,1)} -> 1
...

Sheet Tilastollinen käsittely
A1: TODENNÄKÖISYYKSIEN MUUTOS | G1: VAIKUTUSTEN MUUTOS
A2: RISKIT | B2: Optimistinen | C2: Keskiarvo | D2: Pessimistinen | G2: RISKIT | H2: Optimistinen | I2: Keskiarvo | J2: Pessimistinen
A3: Vesijärjestelmä, vesihuolto ja jätevesijärjestelmä | B3: =AVERAGE(B4:B6) -> 0.18333333 | C3: =AVERAGE(C4:C6) -> 0.43333333 | D3: =AVERAGE(D4:D6) -> 0.66666667 | G3: Vesijärjestelmä, vesihuolto ja jätevesijärjestelmä | H3: =AVERAGE(H4:H6) -> 0.033333333 | I3: =AVERAGE(I4:I6) -> 0.1 | J3: =AVERAGE(J4:J6) -> 0.25
A4: Jätevesi | B4: 0.15 | C4: 0.35 | D4: 0.55 | G4: Jätevesi | H4: 0 | I4: 0.05 | J4: 0.2
A5: Veden saanti | B5: 0.2 | C5: 0.45 | D5: 0.7 | G5: Veden saanti | H5: 0.05 | I5: 0.1 | J5: 0.3
A6: Veden laatu | B6: 0.2 | C6: 0.5 | D6: 0.75 | G6: Veden laatu | H6: 0.05 | I6: 0.15 | J6: 0.25
A7: Sähkö- ja energiajärjestelmä | B7: =AVERAGE(B8:B9) -> 0.175 | C7: =AVERAGE(C8:C9) -> 0.4 | D7: =AVERAGE(D8:D9) -> 0.65 | G7: Sähkö- ja energiajärjestelmä | H7: =AVERAGE(H8:H9) -> 0.05 | I7: =AVERAGE(I8:I9) -> 0.15 | J7: =AVERAGE(J8:J9) -> 0.35
A8: Lyhyt sähkökatkos | B8: 0.25 | C8: 0.5 | D8: 0.75 | G8: Lyhyt sähkökatkos | H8: 0.05 | I8: 0.1 | J8: 0.2
A9: Pitkä sähkökatkos | B9: 0.1 | C9: 0.3 | D9: 0.55 | G9: Pitkä sähkökatkos | H9: 0.05 | I9: 0.2 | J9: 0.5
A10: Jätehuolto | B10: =AVERAGE(B11:B12) -> 0.175 | C10: =AVERAGE(C11:C12) -> 0.4 | D10: =AVERAGE(D11:D12) -> 0.65 | G10: Jätehuolto | H10: =AVERAGE(H11:H12) -> 0.025 | I10: =AVERAGE(I11:I12) -> 0.125 | J10: =AVERAGE(J11:J12) -> 0.275
A11: Logistiset ongelmat | B11: 0.2 | C11: 0.45 | D11: 0.7 | G11: Logistiset ongelmat | H11: 0.05 | I11: 0.15 | J11: 0.35
A12: Hygienia ja turvallisuus | B12: 0.15 | C12: 0.35 | D12: 0.6 | G12: Hygienia ja turvallisuus | H12: 0 | I12: 0.1 | J12: 0.2
A13: Toiminta ilman internetyhteyttä | B13: =AVERAGE(B14:B15) -> 0.175 | C13: =AVERAGE(C14:C15) -> 0.375 | D13: =AVERAGE(D14:D15) -> 0.6 | G13: Toiminta ilman internetyhteyttä | H13: =AVERAGE(H14:H15) -> 0.05 | I13: =AVERAGE(I14:I15) -> 0.1 | J13: =AVERAGE(J14:J15) -> 0.2
A14: Tuotannonohjausjärjestelmän katkos | B14: 0.2 | C14: 0.4 | D14: 0.65 | G14: Tuotannonohjausjärjestelmän katkos | H14: 0.05 | I14: 0.1 | J14: 0.2
A15: Kommunikaatio | B15: 0.15 | C15: 0.35 | D15: 0.55 | G15: Kommunikaatio | H15: 0.05 | I15: 0.1 | J15: 0.2
A16: Muu tietoliikennehäiriö | B16: =AVERAGE(B17:B18) -> 0.2 | C16: =AVERAGE(C17:C18) -> 0.425 | D16: =AVERAGE(D17:D18) -> 0.65 | G16: Muu tietoliikennehäiriö | H16: =AVERAGE(H17:H18) -> 0.05 | I16: =AVERAGE(I17:I18) -> 0.1 | J16: =AVERAGE(J17:J18) -> 0.225
A17: Automaatiojärjestelmät | B17: 0.15 | C17: 0.35 | D17: 0.55 | G17: Automaatiojärjestelmät | H17: 0.05 | I17: 0.1 | J17: 0.2
A18: Kyberturvallisuus | B18: 0.25 | C18: 0.5 | D18: 0.75 | G18: Kyberturvallisuus | H18: 0.05 | I18: 0.1 | J18: 0.25
A19: Tuotantopanosten kustannukset | B19: =AVERAGE(B20:B21) -> 0.325 | C19: =AVERAGE(C20:C21) -> 0.575 | D19: =AVERAGE(D20:D21) -> 0.825 | G19: Tuotantopanosten kustannukset | H19: =AVERAGE(H20:H21) -> 0.075 | I19: =AVERAGE(I20:I21) -> 0.2 | J19: =AVERAGE(J20:J21) -> 0.45
A20: Energia ja polttoaine | B20: 0.35 | C20: 0.6 | D20: 0.85 | G20: Energia ja polttoaine | H20: 0.05 | I20: 0.15 | J20: 0.4
A21: Tuotannon raaka-aineet | B21: 0.3 | C21: 0.55 | D21: 0.8 | G21: Tuotannon raaka-aineet | H21: 0.1 | I21: 0.25 | J21: 0.5
A22: Esikäsittelyn ja valmistuksen riskienhallinta | B22: =AVERAGE(B23:B24) -> 0.275 | C22: =AVERAGE(C23:C24) -> 0.525 | D22: =AVERAGE(D23:D24) -> 0.775 | G22: Esikäsittelyn ja valmistuksen riskienhallinta | H22: =AVERAGE(H23:H24) -> 0.05 | I22: =AVERAGE(I23:I24) -> 0.175 | J22: =AVERAGE(J23:J24) -> 0.4
A23: Olosuhteiden vaihtelu (lämpötila ja kosteus) | B23: 0.3 | C23: 0.55 | D23: 0.8 | G23: Olosuhteiden vaihtelu (lämpötila ja kosteus) | H23: 0.05 | I23: 0.2 | J23: 0.5
A24: Laitteisto | B24: 0.25 | C24: 0.5 | D24: 0.75 | G24: Laitteisto | H24: 0.05 | I24: 0.15 | J24: 0.3
A25: Elintarviketuotteiden säilytys ja varastointi | B25: =AVERAGE(B26:B27) -> 0.225 | C25: =AVERAGE(C26:C27) -> 0.475 | D25: =AVERAGE(D26:D27) -> 0.725 | G25: Elintarviketuotteiden säilytys ja varastointi | H25: =AVERAGE(H26:H27) -> 0.05 | I25: =AVERAGE(I26:I27) -> 0.175 | J25: =AVERAGE(J26:J27) -> 0.35
A26: lämpötila ja kosteus | B26: 0.25 | C26: 0.5 | D26: 0.75 | G26: lämpötila ja kosteus | H26: 0.05 | I26: 0.15 | J26: 0.3
A27: Sähkökatkot | B27: 0.2 | C27: 0.45 | D27: 0.7 | G27: Sähkökatkot | H27: 0.05 | I27: 0.2 | J27: 0.4
A28: Henkilöstön osaaminen varautumisessa | B28: =AVERAGE(B29:B30) -> 0.225 | C28: =AVERAGE(C29:C30) -> 0.425 | D28: =AVERAGE(D29:D30) -> 0.675 | G28: Henkilöstön osaaminen varautumisessa | H28: =AVERAGE(H29:H30) -> 0.05 | I28: =AVERAGE(I29:I30) -> 0.15 | J28: =AVERAGE(J29:J30) -> 0.3
A29: Puutteellinen koulutus | B29: 0.2 | C29: 0.4 | D29: 0.65 | G29: Puutteellinen koulutus | H29: 0.05 | I29: 0.15 | J29: 0.3
A30: Rippuvuus yksittäisistä avainhenkilöistä | B30: 0.25 | C30: 0.45 | D30: 0.7 | G30: Rippuvuus yksittäisistä avainhenkilöistä | H30: 0.05 | I30: 0.15 | J30: 0.3
A31: Henkinen kuormittuminen (ristiriidat) | B31: =AVERAGE(B32:B33) -> 0.15 | C31: =AVERAGE(C32:C33) -> 0.35 | D31: =AVERAGE(D32:D33) -> 0.55 | G31: Henkinen kuormittuminen (ristiriidat) | H31: =AVERAGE(H32:H33) -> 0.025 | I31: =AVERAGE(I32:I33) -> 0.125 | J31: =AVERAGE(J32:J33) -> 0.275
A32: Vastuun jakautuminen | B32: 0.15 | C32: 0.35 | D32: 0.55 | G32: Vastuun jakautuminen | H32: 0 | I32: 0.1 | J32: 0.25
A33: Sisäiset konfliktit | B33: 0.15 | C33: 0.35 | D33: 0.55 | G33: Sisäiset konfliktit | H33: 0.05 | I33: 0.15 | J33: 0.3
A34: Vieraslajit | B34: =AVERAGE(B35:B36) -> 0.275 | C34: =AVERAGE(C35:C36) -> 0.525 | D34: =AVERAGE(D35:D36) -> 0.75 | G34: Vieraslajit | H34: =AVERAGE(H35:H36) -> 0.075 | I34: =AVERAGE(I35:I36) -> 0.2 | J34: =AVERAGE(J35:J36) -> 0.4
A35: Sadon menetykset | B35: 0.3 | C35: 0.55 | D35: 0.8 | G35: Sadon menetykset | H35: 0.1 | I35: 0.25 | J35: 0.5
A36: Vanhojen lajien syrjäyttäminen | B36: 0.25 | C36: 0.5 | D36: 0.7 | G36: Vanhojen lajien syrjäyttäminen | H36: 0.05 | I36: 0.15 | J36: 0.3
A37: Sään ääri-ilmiöiden vaikutus viljelyihin | B37: =AVERAGE(B38:B40) -> 0.31666667 | C37: =AVERAGE(C38:C40) -> 0.55 | D37: =AVERAGE(D38:D40) -> 0.75 | G37: Sään ääri-ilmiöiden vaikutus viljelyihin | H37: =AVERAGE(H38:H40) -> 0.05 | I37: =AVERAGE(I38:I40) -> 0.18333333 | J37: =AVERAGE(J38:J40) -> 0.46666667
A38: Rankkasateet | B38: 0.4 | C38: 0.6 | D38: 0.8 | G38: Rankkasateet | H38: 0.05 | I38: 0.15 | J38: 0.4
A39: Tulvat | B39: 0.3 | C39: 0.55 | D39: 0.75 | G39: Tulvat | H39: 0.05 | I39: 0.2 | J39: 0.5
A40: Myrskyt | B40: 0.25 | C40: 0.5 | D40: 0.7 | G40: Myrskyt | H40: 0.05 | I40: 0.2 | J40: 0.5
A41: Pidentynyt kasvukausi | B41: =AVERAGE(B42:B43) -> 0.275 | C41: =AVERAGE(C42:C43) -> 0.525 | D41: =AVERAGE(D42:D43) -> 0.675 | G41: Pidentynyt kasvukausi | H41: =AVERAGE(H42:H43) -> 0.075 | I41: =AVERAGE(I42:I43) -> 0.175 | J41: =AVERAGE(J42:J43) -> 0
A42: Uudet lajikkeet | B42: 0.3 | C42: 0.55 | D42: 0.7 | G42: Uudet lajikkeet | H42: 0.05 | I42: 0.15 | J42: 0
A43: Suurempi sato | B43: 0.25 | C43: 0.5 | D43: 0.65 | G43: Suurempi sato | H43: 0.1 | I43: 0.2 | J43: 0
A44: Kuivuuden lisääntyminen | B44: =AVERAGE(B45:B46) -> 0.325 | C44: =AVERAGE(C45:C46) -> 0.575 | D44: =AVERAGE(D45:D46) -> 0.825 | G44: Kuivuuden lisääntyminen | H44: =AVERAGE(H45:H46) -> 0.05 | I44: =AVERAGE(I45:I46) -> 0.175 | J44: =AVERAGE(J45:J46) -> 0.4
A45: Veden tarve | B45: 0.3 | C45: 0.55 | D45: 0.8 | G45: Veden tarve | H45: 0.05 | I45: 0.15 | J45: 0.3
A46: Vaikutus viljelmiin | B46: 0.35 | C46: 0.6 | D46: 0.85 | G46: Vaikutus viljelmiin | H46: 0.05 | I46: 0.2 | J46: 0.5
A47: Lämpöstressi eläimille | B47: =AVERAGE(B48:B50) -> 0.28333333 | C47: =AVERAGE(C48:C50) -> 0.53333333 | D47: =AVERAGE(D48:D50) -> 0.78333333 | G47: Lämpöstressi eläimille | H47: =AVERAGE(H48:H50) -> 0.05 | I47: =AVERAGE(I48:I50) -> 0.2 | J47: =AVERAGE(J48:J50) -> 0.36666667
A48: Tuottavuuden heikkeneminen | B48: 0.35 | C48: 0.6 | D48: 0.85 | G48: Tuottavuuden heikkeneminen | H48: 0.05 | I48: 0.15 | J48: 0.4
A49: Jäähdytys ja ilmanvaihto kustannukset | B49: 0.25 | C49: 0.5 | D49: 0.75 | G49: Jäähdytys ja ilmanvaihto kustannukset | H49: 0.05 | I49: 0.2 | J49: 0.3
A50: Kulleisuuden kasvu | B50: 0.25 | C50: 0.5 | D50: 0.75 | G50: Kulleisuuden kasvu | H50: 0.05 | I50: 0.25 | J50: 0.4
A51: Rehutuotannon epävarmuus | B51: =AVERAGE(B52:B53) -> 0.275 | C51: =AVERAGE(C52:C53) -> 0.525 | D51: =AVERAGE(D52:D53) -> 0.75 | G51: Rehutuotannon epävarmuus | H51: =AVERAGE(H52:H53) -> 0.075 | I51: =AVERAGE(I52:I53) -> 0.2 | J51: =AVERAGE(J52:J53) -> 0.4
A52: Tuontirehun kustannukset | B52: 0.3 | C52: 0.55 | D52: 0.8 | G52: Tuontirehun kustannukset | H52: 0.1 | I52: 0.25 | J52: 0.5
A53: Rehun lajikkeen vaihto | B53: 0.25 | C53: 0.5 | D53: 0.7 | G53: Rehun lajikkeen vaihto | H53: 0.05 | I53: 0.15 | J53: 0.3
A54: Kuluttajakäyttäytymisen muutokset | B54: =AVERAGE(B55:B57) -> 0.23333333 | C54: =AVERAGE(C55:C57) -> 0.48333333 | D54: =AVERAGE(D55:D57) -> 0.68333333 | G54: Kuluttajakäyttäytymisen muutokset | H54: =AVERAGE(H55:H57) -> 0.05 | I54: =AVERAGE(I55:I57) -> 0.033333333 | J54: =AVERAGE(J55:J57) -> -0.11666667
A55: Uusien tuotteiden kehitys | B55: 0.25 | C55: 0.5 | D55: 0.7 | G55: Uusien tuotteiden kehitys | H55: 0.1 | I55: 0.2 | J55: 0
A56: Kysynnän väheneminen tietyissä tuotteissa | B56: 0.25 | C56: 0.5 | D56: 0.7 | G56: Kysynnän väheneminen tietyissä tuotteissa | H56: 0 | I56: -0.1 | J56: -0.2
A57: Brändi | B57: 0.2 | C57: 0.45 | D57: 0.65 | G57: Brändi | H57: 0.05 | I57: 0 | J57: -0.15
A58: Ympäristövaikutukset ja lainsäädännön vaatimukset | B58: =AVERAGE(B59:B61) -> 0.33333333 | C58: =AVERAGE(C59:C61) -> 0.58333333 | D58: =AVERAGE(D59:D61) -> 0.78333333 | G58: Ympäristövaikutukset ja lainsäädännön vaatimukset | H58: =AVERAGE(H59:H61) -> 0.033333333 | I58: =AVERAGE(I59:I61) -> 0.15 | J58: =AVERAGE(J59:J61) -> 0.31666667
A59: Tiukentuvat päästö ja jätehuolto vaatimukset | B59: 0.35 | C59: 0.6 | D59: 0.8 | G59: Tiukentuvat päästö ja jätehuolto vaatimukset | H59: 0.05 | I59: 0.15 | J59: 0.3
A60: Investoinnin tarve | B60: 0.3 | C60: 0.55 | D60: 0.75 | G60: Investoinnin tarve | H60: 0.05 | I60: 0.2 | J60: 0.4
A61: Seuraamusriskit | B61: 0.35 | C61: 0.6 | D61: 0.8 | G61: Seuraamusriskit | H61: 0 | I61: 0.1 | J61: 0.25
A62: Ilmastonsuojelu | B62: =AVERAGE(B63:B64) -> 0.35 | C62: =AVERAGE(C63:C64) -> 0.6 | D62: =AVERAGE(D63:D64) -> 0.8 | G62: Ilmastonsuojelu | H62: =AVERAGE(H63:H64) -> 0.05 | I62: =AVERAGE(I63:I64) -> 0.15 | J62: =AVERAGE(J63:J64) -> 0.3
A63: Hiilijalanjäljen seuranta- ja raportointi vaatimukset | B63: 0.4 | C63: 0.65 | D63: 0.85 | G63: Hiilijalanjäljen seuranta- ja raportointi vaatimukset | H63: 0.05 | I63: 0.15 | J63: 0.3
A64: Tarve vähentää energiankulutusta | B64: 0.3 | C64: 0.55 | D64: 0.75 | G64: Tarve vähentää energiankulutusta | H64: 0.05 | I64: 0.15 | J64: 0.3
A65: Uusiutuvien luonnonvarojen käytön edistäminen | B65: =AVERAGE(B66:B67) -> 0.3 | C65: =AVERAGE(C66:C67) -> 0.525 | D65: =AVERAGE(D66:D67) -> 0.725 | G65: Uusiutuvien luonnonvarojen käytön edistäminen | H65: =AVERAGE(H66:H67) -> 0.05 | I65: =AVERAGE(I66:I67) -> 0.15 | J65: =AVERAGE(J66:J67) -> 0.325
A66: Kierrätys | B66: 0.35 | C66: 0.6 | D66: 0.8 | G66: Kierrätys | H66: 0.05 | I66: 0.1 | J66: 0.25
A67: Investoinnin tarve | B67: 0.25 | C67: 0.45 | D67: 0.65 | G67: Investoinnin tarve | H67: 0.05 | I67: 0.2 | J67: 0.4
A68: Työvoiman saatavuus | B68: =AVERAGE(B69:B70) -> 0.25 | C68: =AVERAGE(C69:C70) -> 0.45 | D68: =AVERAGE(D69:D70) -> 0.625 | G68: Työvoiman saatavuus | H68: =AVERAGE(H69:H70) -> 0.025 | I68: =AVERAGE(I69:I70) -> 0.125 | J68: =AVERAGE(J69:J70) -> 0.275
A69: Henkilöstön sitouttaminen | B69: 0.25 | C69: 0.45 | D69: 0.65 | G69: Henkilöstön sitouttaminen | H69: 0 | I69: 0.1 | J69: 0.25
A70: Työntekijämarkkinan kilpailu | B70: 0.25 | C70: 0.45 | D70: 0.6 | G70: Työntekijämarkkinan kilpailu | H70: 0.05 | I70: 0.15 | J70: 0.3
A73: TODENNÄKÖISYYKSIEN MUUTOS | G73: VAIKUTUSTEN MUUTOS
A74: RISKIT | B74: Optimistinen | C74: Keskiarvo | D74: Pessimistinen | G74: RISKIT | H74: Optimistinen | I74: Keskiarvo | J74: Pessimistinen
A75: Vesijärjestelmä, vesihuolto ja jätevesijärjestelmä | B75: =AVERAGE(B76:B78) -> 0.05 | C75: =AVERAGE(C76:C78) -> 0.21666667 | D75: =AVERAGE(D76:D78) -> 0.51666667 | G75: Vesijärjestelmä, vesihuolto ja jätevesijärjestelmä | H75: =AVERAGE(H76:H78) -> 0.36666667 | I75: =AVERAGE(I76:I78) -> 0.46666667 | J75: =AVERAGE(J76:J78) -> 0.56666667
A76: Jätevesi | B76: 0.05 | C76: 0.2 | D76: 0.5 | G76: Jätevesi | H76: 0.3 | I76: 0.4 | J76: 0.5
A77: Veden saanti | B77: 0.05 | C77: 0.25 | D77: 0.55 | G77: Veden saanti | H77: 0.4 | I77: 0.5 | J77: 0.6
A78: Veden laatu | B78: 0.05 | C78: 0.2 | D78: 0.5 | G78: Veden laatu | H78: 0.4 | I78: 0.5 | J78: 0.6
A79: Sähkö- ja energiajärjestelmä | B79: =AVERAGE(B80:B81) -> 0.1 | C79: =AVERAGE(C80:C81) -> 0.325 | D79: =AVERAGE(D80:D81) -> 0.65 | G79: Sähkö- ja energiajärjestelmä | H79: =AVERAGE(H80:H81) -> 0.3 | I79: =AVERAGE(I80:I81) -> 0.4 | J79: =AVERAGE(J80:J81) -> 0.5
A80: Lyhyt sähkökatkos | B80: 0.15 | C80: 0.4 | D80: 0.7 | G80: Lyhyt sähkökatkos | H80: 0.2 | I80: 0.3 | J80: 0.4
A81: Pitkä sähkökatkos | B81: 0.05 | C81: 0.25 | D81: 0.6 | G81: Pitkä sähkökatkos | H81: 0.4 | I81: 0.5 | J81: 0.6
A82: Jätehuolto | B82: =AVERAGE(B83:B84) -> 0.075 | C82: =AVERAGE(C83:C84) -> 0.275 | D82: =AVERAGE(D83:D84) -> 0.575 | G82: Jätehuolto | H82: =AVERAGE(H83:H84) -> 0.275 | I82: =AVERAGE(I83:I84) -> 0.35 | J82: =AVERAGE(J83:J84) -> 0.425
A83: Logistiset ongelmat | B83: 0.1 | C83: 0.35 | D83: 0.65 | G83: Logistiset ongelmat | H83: 0.4 | I83: 0.5 | J83: 0.6
A84: Hygienia ja turvallisuus | B84: 0.05 | C84: 0.2 | D84: 0.5 | G84: Hygienia ja turvallisuus | H84: 0.15 | I84: 0.2 | J84: 0.25
A85: Toiminta ilman internetyhteyttä | B85: =AVERAGE(B86:B87) -> 0.075 | C85: =AVERAGE(C86:C87) -> 0.275 | D85: =AVERAGE(D86:D87) -> 0.575 | G85: Toiminta ilman internetyhteyttä | H85: =AVERAGE(H86:H87) -> 0.275 | I85: =AVERAGE(I86:I87) -> 0.35 | J85: =AVERAGE(J86:J87) -> 0.425
A86: Tuotannonohjausjärjestelmän katkos | B86: 0.05 | C86: 0.25 | D86: 0.55 | G86: Tuotannonohjausjärjestelmän katkos | H86: 0.4 | I86: 0.5 | J86: 0.6
A87: Kommunikaatio | B87: 0.1 | C87: 0.3 | D87: 0.6 | G87: Kommunikaatio | H87: 0.15 | I87: 0.2 | J87: 0.25
A88: Muu tietoliikennehäiriö | B88: =AVERAGE(B89:B90) -> 0.05 | C88: =AVERAGE(C89:C90) -> 0.225 | D88: =AVERAGE(D89:D90) -> 0.525 | G88: Muu tietoliikennehäiriö | H88: =AVERAGE(H89:H90) -> 0.1 | I88: =AVERAGE(I89:I90) -> 0.15 | J88: =AVERAGE(J89:J90) -> 0.2
A89: Automaatiojärjestelmät | B89: 0.05 | C89: 0.25 | D89: 0.55 | G89: Automaatiojärjestelmät | H89: 0.15 | I89: 0.2 | J89: 0.25
A90: Kyberturvallisuus | B90: 0.05 | C90: 0.2 | D90: 0.5 | G90: Kyberturvallisuus | H90: 0.05 | I90: 0.1 | J90: 0.15
A91: Kuljetus- ja logistiikkaketjut | B91: =AVERAGE(B92:B94) -> 0.11666667 | C91: =AVERAGE(C92:C94) -> 0.36666667 | D91: =AVERAGE(D92:D94) -> 0.66666667 | G91: Kuljetus- ja logistiikkaketjut | H91: =AVERAGE(H92:H94) -> 0.11666667 | I91: =AVERAGE(I92:I94) -> 0.36666667 | J91: =AVERAGE(J92:J94) -> 0.66666667
A92: Kylmäketju | B92: 0.05 | C92: 0.25 | D92: 0.55 | G92: Kylmäketju | H92: 0.05 | I92: 0.25 | J92: 0.55
A93: Polttoaineen hinta ja saatavuus | B93: 0.2 | C93: 0.5 | D93: 0.8 | G93: Polttoaineen hinta ja saatavuus | H93: 0.2 | I93: 0.5 | J93: 0.8
A94: Tie- ja raideliikenteen häiriöt | B94: 0.1 | C94: 0.35 | D94: 0.65 | G94: Tie- ja raideliikenteen häiriöt | H94: 0.1 | I94: 0.35 | J94: 0.65
A95: Satamien ja vesiliikenteen vaikeutuminen | B95: =AVERAGE(B96:B97) -> 0.05 | C95: =AVERAGE(C96:C97) -> 0.25 | D95: =AVERAGE(D96:D97) -> 0.55 | G95: Satamien ja vesiliikenteen vaikeutuminen | H95: =AVERAGE(H96:H97) -> 0.25 | I95: =AVERAGE(I96:I97) -> 0.3 | J95: =AVERAGE(J96:J97) -> 0.35
A96: Vesistöjen pinnan vaihtelut | B96: 0.05 | C96: 0.25 | D96: 0.55 | G96: Vesistöjen pinnan vaihtelut | H96: 0.35 | I96: 0.4 | J96: 0.45
A97: Satama infrastruktuuri | B97: 0.05 | C97: 0.25 | D97: 0.55 | G97: Satama infrastruktuuri | H97: 0.15 | I97: 0.2 | J97: 0.25
A98: Tuotantopanosten kustannukset | B98: =AVERAGE(B99:B100) -> 0.15 | C98: =AVERAGE(C99:C100) -> 0.4 | D98: =AVERAGE(D99:D100) -> 0.7 | G98: Tuotantopanosten kustannukset | H98: =AVERAGE(H99:H100) -> 0.15 | I98: =AVERAGE(I99:I100) -> 0.4 | J98: =AVERAGE(J99:J100) -> 0.7
A99: Energia ja polttoaine | B99: 0.15 | C99: 0.4 | D99: 0.7 | G99: Energia ja polttoaine | H99: 0.15 | I99: 0.4 | J99: 0.7
A100: Tuotannon raaka-aineet | B100: 0.15 | C100: 0.4 | D100: 0.7 | G100: Tuotannon raaka-aineet | H100: 0.15 | I100: 0.4 | J100: 0.7
A101: Esikäsittelyn ja valmistuksen riskienhallinta | B101: =AVERAGE(B102:B103) -> 0.125 | C101: =AVERAGE(C102:C103) -> 0.375 | D101: =AVERAGE(D102:D103) -> 0.675 | G101: Esikäsittelyn ja valmistuksen riskienhallinta | H101: =AVERAGE(H102:H103) -> 0.125 | I101: =AVERAGE(I102:I103) -> 0.475 | J101: =AVERAGE(J102:J103) -> 0.525
A102: Olosuhteiden vaihtelu (lämpötila ja kosteus) | B102: 0.15 | C102: 0.45 | D102: 0.75 | G102: Olosuhteiden vaihtelu (lämpötila ja kosteus) | H102: 0.15 | I102: 0.3 | J102: 0.35
...

Sheet DATA
G7: X | H7: Y | J7: X | K7: Y | M7: X | N7: Y | R7: X | S7: Y
G8: 0 | H8: =MAX(0,SQRT('Riskien luokittelu'!$K$17)/SQRT('Riskien luokittelu'!$K$17)*(SQRT('Riskien luokittelu'!$K$17)-G8)) -> 6 | J8: 0 | K8: =MAX(0,SQRT('Riskien luokittelu'!$K$18)/SQRT('Riskien luokittelu'!$K$18)*(SQRT('Riskien luokittelu'!$K$18)-J8)-H8) -> 3 | M8: 0 | N8: =10-H8-K8 -> 1 | Q8: R1 | R8: =_xlfn.XLOOKUP(Q8,Table2[Index],Table2[TODENNÄKÖISYYS (1-10)])+1 -> 2.6666667 | S8: =_xlfn.XLOOKUP(DATA!Q8,Table2[Index],Table2[VAIKUTUS (1-10)]) -> 3
G9: 1 | H9: =MAX(0,SQRT('Riskien luokittelu'!$K$17)/SQRT('Riskien luokittelu'!$K$17)*(SQRT('Riskien luokittelu'!$K$17)-G9)) -> 5 | J9: 1 | K9: =MAX(0,SQRT('Riskien luokittelu'!$K$18)/SQRT('Riskien luokittelu'!$K$18)*(SQRT('Riskien luokittelu'!$K$18)-J9)-H9) -> 3 | M9: 1 | N9: =10-H9-K9 -> 2 | Q9: R2 | R9: =_xlfn.XLOOKUP(Q9,Table2[Index],Table2[TODENNÄKÖISYYS (1-10)])+1 -> 7 | S9: =_xlfn.XLOOKUP(DATA!Q9,Table2[Index],Table2[VAIKUTUS (1-10)]) -> 4
G10: 2 | H10: =MAX(0,SQRT('Riskien luokittelu'!$K$17)/SQRT('Riskien luokittelu'!$K$17)*(SQRT('Riskien luokittelu'!$K$17)-G10)) -> 4 | J10: 2 | K10: =MAX(0,SQRT('Riskien luokittelu'!$K$18)/SQRT('Riskien luokittelu'!$K$18)*(SQRT('Riskien luokittelu'!$K$18)-J10)-H10) -> 3 | M10: 2 | N10: =10-H10-K10 -> 3 | Q10: R3 | R10: =_xlfn.XLOOKUP(Q10,Table2[Index],Table2[TODENNÄKÖISYYS (1-10)])+1 -> 6.5 | S10: =_xlfn.XLOOKUP(DATA!Q10,Table2[Index],Table2[VAIKUTUS (1-10)]) -> 5.5
G11: 3 | H11: =MAX(0,SQRT('Riskien luokittelu'!$K$17)/SQRT('Riskien luokittelu'!$K$17)*(SQRT('Riskien luokittelu'!$K$17)-G11)) -> 3 | J11: 3 | K11: =MAX(0,SQRT('Riskien luokittelu'!$K$18)/SQRT('Riskien luokittelu'!$K$18)*(SQRT('Riskien luokittelu'!$K$18)-J11)-H11) -> 3 | M11: 3 | N11: =10-H11-K11 -> 4 | Q11: R4 | R11: =_xlfn.XLOOKUP(Q11,Table2[Index],Table2[TODENNÄKÖISYYS (1-10)])+1 -> 5.5 | S11: =_xlfn.XLOOKUP(DATA!Q11,Table2[Index],Table2[VAIKUTUS (1-10)]) -> 6
G12: 4 | H12: =MAX(0,SQRT('Riskien luokittelu'!$K$17)/SQRT('Riskien luokittelu'!$K$17)*(SQRT('Riskien luokittelu'!$K$17)-G12)) -> 2 | J12: 4 | K12: =MAX(0,SQRT('Riskien luokittelu'!$K$18)/SQRT('Riskien luokittelu'!$K$18)*(SQRT('Riskien luokittelu'!$K$18)-J12)-H12) -> 3 | M12: 4 | N12: =10-H12-K12 -> 5 | Q12: R5 | R12: =_xlfn.XLOOKUP(Q12,Table2[Index],Table2[TODENNÄKÖISYYS (1-10)])+1 -> 7 | S12: =_xlfn.XLOOKUP(DATA!Q12,Table2[Index],Table2[VAIKUTUS (1-10)]) -> 3
G13: 5 | H13: =MAX(0,SQRT('Riskien luokittelu'!$K$17)/SQRT('Riskien luokittelu'!$K$17)*(SQRT('Riskien luokittelu'!$K$17)-G13)) -> 1 | J13: 5 | K13: =MAX(0,SQRT('Riskien luokittelu'!$K$18)/SQRT('Riskien luokittelu'!$K$18)*(SQRT('Riskien luokittelu'!$K$18)-J13)-H13) -> 3 | M13: 5 | N13: =10-H13-K13 -> 6 | Q13: R6 | R13: =_xlfn.XLOOKUP(Q13,Table2[Index],Table2[TODENNÄKÖISYYS (1-10)])+1 -> 7 | S13: =_xlfn.XLOOKUP(DATA!Q13,Table2[Index],Table2[VAIKUTUS (1-10)]) -> 4.5
G14: 6 | H14: =MAX(0,SQRT('Riskien luokittelu'!$K$17)/SQRT('Riskien luokittelu'!$K$17)*(SQRT('Riskien luokittelu'!$K$17)-G14)) -> 0 | J14: 6 | K14: =MAX(0,SQRT('Riskien luokittelu'!$K$18)/SQRT('Riskien luokittelu'!$K$18)*(SQRT('Riskien luokittelu'!$K$18)-J14)-H14) -> 3 | M14: 6 | N14: =10-H14-K14 -> 7 | Q14: R7 | R14: =_xlfn.XLOOKUP(Q14,Table2[Index],Table2[TODENNÄKÖISYYS (1-10)])+1 -> 4 | S14: =_xlfn.XLOOKUP(DATA!Q14,Table2[Index],Table2[VAIKUTUS (1-10)]) -> 3
G15: 7 | H15: =MAX(0,SQRT('Riskien luokittelu'!$K$17)/SQRT('Riskien luokittelu'!$K$17)*(SQRT('Riskien luokittelu'!$K$17)-G15)) -> 0 | J15: 7 | K15: =MAX(0,SQRT('Riskien luokittelu'!$K$18)/SQRT('Riskien luokittelu'!$K$18)*(SQRT('Riskien luokittelu'!$K$18)-J15)-H15) -> 2 | M15: 7 | N15: =10-H15-K15 -> 8 | Q15: R8 | R15: =_xlfn.XLOOKUP(Q15,Table2[Index],Table2[TODENNÄKÖISYYS (1-10)])+1 -> 3 | S15: =_xlfn.XLOOKUP(DATA!Q15,Table2[Index],Table2[VAIKUTUS (1-10)]) -> 4.5
G16: 8 | H16: =MAX(0,SQRT('Riskien luokittelu'!$K$17)/SQRT('Riskien luokittelu'!$K$17)*(SQRT('Riskien luokittelu'!$K$17)-G16)) -> 0 | J16: 8 | K16: =MAX(0,SQRT('Riskien luokittelu'!$K$18)/SQRT('Riskien luokittelu'!$K$18)*(SQRT('Riskien luokittelu'!$K$18)-J16)-H16) -> 1 | M16: 8 | N16: =10-H16-K16 -> 9 | Q16: R9 | R16: =_xlfn.XLOOKUP(Q16,Table2[Index],Table2[TODENNÄKÖISYYS (1-10)])+1 -> 6.5 | S16: =_xlfn.XLOOKUP(DATA!Q16,Table2[Index],Table2[VAIKUTUS (1-10)]) -> 6
G17: 9 | H17: =MAX(0,SQRT('Riskien luokittelu'!$K$17)/SQRT('Riskien luokittelu'!$K$17)*(SQRT('Riskien luokittelu'!$K$17)-G17)) -> 0 | J17: 9 | K17: =MAX(0,SQRT('Riskien luokittelu'!$K$18)/SQRT('Riskien luokittelu'!$K$18)*(SQRT('Riskien luokittelu'!$K$18)-J17)-H17) -> 0 | M17: 9 | N17: =10-H17-K17 -> 10 | Q17: R10 | R17: =_xlfn.XLOOKUP(Q17,Table2[Index],Table2[TODENNÄKÖISYYS (1-10)])+1 -> 4 | S17: =_xlfn.XLOOKUP(DATA!Q17,Table2[Index],Table2[VAIKUTUS (1-10)]) -> 4
G18: 10 | H18: =MAX(0,SQRT('Riskien luokittelu'!$K$17)/SQRT('Riskien luokittelu'!$K$17)*(SQRT('Riskien luokittelu'!$K$17)-G18)) -> 0 | J18: 10 | K18: =MAX(0,SQRT('Riskien luokittelu'!$K$18)/SQRT('Riskien luokittelu'!$K$18)*(SQRT('Riskien luokittelu'!$K$18)-J18)-H18) -> 0 | M18: 10 | N18: =10-H18-K18 -> 10 | Q18: R11 | R18: =_xlfn.XLOOKUP(Q18,Table2[Index],Table2[TODENNÄKÖISYYS (1-10)])+1 -> 7.5 | S18: =_xlfn.XLOOKUP(DATA!Q18,Table2[Index],Table2[VAIKUTUS (1-10)]) -> 3
Q19: R12 | R19: =_xlfn.XLOOKUP(Q19,Table2[Index],Table2[TODENNÄKÖISYYS (1-10)])+1 -> 8 | S19: =_xlfn.XLOOKUP(DATA!Q19,Table2[Index],Table2[VAIKUTUS (1-10)]) -> 3.6666667
Q20: R13 | R20: =_xlfn.XLOOKUP(Q20,Table2[Index],Table2[TODENNÄKÖISYYS (1-10)])+1 -> 9 | S20: =_xlfn.XLOOKUP(DATA!Q20,Table2[Index],Table2[VAIKUTUS (1-10)]) -> 5.5
Q21: R14 | R21: =_xlfn.XLOOKUP(Q21,Table2[Index],Table2[TODENNÄKÖISYYS (1-10)])+1 -> 3.5 | S21: =_xlfn.XLOOKUP(DATA!Q21,Table2[Index],Table2[VAIKUTUS (1-10)]) -> 8.5
Q22: R15 | R22: =_xlfn.XLOOKUP(Q22,Table2[Index],Table2[TODENNÄKÖISYYS (1-10)])+1 -> 3.3333333 | S22: =_xlfn.XLOOKUP(DATA!Q22,Table2[Index],Table2[VAIKUTUS (1-10)]) -> 5.6666667
Q23: R16 | R23: =_xlfn.XLOOKUP(Q23,Table2[Index],Table2[TODENNÄKÖISYYS (1-10)])+1 -> 2.5 | S23: =_xlfn.XLOOKUP(DATA!Q23,Table2[Index],Table2[VAIKUTUS (1-10)]) -> 9.5
Q24: R17 | R24: =_xlfn.XLOOKUP(Q24,Table2[Index],Table2[TODENNÄKÖISYYS (1-10)])+1 -> 3.3333333 | S24: =_xlfn.XLOOKUP(DATA!Q24,Table2[Index],Table2[VAIKUTUS (1-10)]) -> 2.3333333
Q25: R18 | R25: =_xlfn.XLOOKUP(Q25,Table2[Index],Table2[TODENNÄKÖISYYS (1-10)])+1 -> 3.3333333 | S25: =_xlfn.XLOOKUP(DATA!Q25,Table2[Index],Table2[VAIKUTUS (1-10)]) -> 2.3333333
Q26: R19 | R26: =_xlfn.XLOOKUP(Q26,Table2[Index],Table2[TODENNÄKÖISYYS (1-10)])+1 -> 3 | S26: =_xlfn.XLOOKUP(DATA!Q26,Table2[Index],Table2[VAIKUTUS (1-10)]) -> 2
Q27: R20 | R27: =_xlfn.XLOOKUP(Q27,Table2[Index],Table2[TODENNÄKÖISYYS (1-10)])+1 -> 3 | S27: =_xlfn.XLOOKUP(DATA!Q27,Table2[Index],Table2[VAIKUTUS (1-10)]) -> 2
Q28: R21 | R28: =_xlfn.XLOOKUP(Q28,Table2[Index],Table2[TODENNÄKÖISYYS (1-10)])+1 -> 3 | S28: =_xlfn.XLOOKUP(DATA!Q28,Table2[Index],Table2[VAIKUTUS (1-10)]) -> 2
G31: X | H31: Y | J31: X | K31: Y | M31: X | N31: Y | Q31: R1 | R31: =_xlfn.XLOOKUP(Q31,Table5[INDEX],Table5[TODENNÄKÖISYYS (1-10)])+1 -> 2.3333333 | S31: =_xlfn.XLOOKUP(Q31,Table5[INDEX],Table5[VAIKUTUS (1-10)]) -> 1
G32: 0 | H32: =MAX(0,SQRT('Riskien luokittelu'!$I$100)/SQRT('Riskien luokittelu'!$I$100)*(SQRT('Riskien luokittelu'!$I$100)-G32)) -> 5 | J32: 0 | K32: =MAX(0,SQRT('Riskien luokittelu'!$I$101)/SQRT('Riskien luokittelu'!$I$101)*(SQRT('Riskien luokittelu'!$I$101)-J32)-H32) -> 5 | M32: 0 | N32: =10-H32-K32 -> 0 | Q32: R2 | R32: =_xlfn.XLOOKUP(Q32,Table5[INDEX],Table5[TODENNÄKÖISYYS (1-10)])+1 -> 3 | S32: =_xlfn.XLOOKUP(Q32,Table5[INDEX],Table5[VAIKUTUS (1-10)]) -> 2
G33: 1 | H33: =MAX(0,SQRT('Riskien luokittelu'!$I$100)/SQRT('Riskien luokittelu'!$I$100)*(SQRT('Riskien luokittelu'!$I$100)-G33)) -> 4 | J33: 1 | K33: =MAX(0,SQRT('Riskien luokittelu'!$I$101)/SQRT('Riskien luokittelu'!$I$101)*(SQRT('Riskien luokittelu'!$I$101)-J33)-H33) -> 5 | M33: 1 | N33: =10-H33-K33 -> 1 | Q33: R3 | R33: =_xlfn.XLOOKUP(Q33,Table5[INDEX],Table5[TODENNÄKÖISYYS (1-10)])+1 -> 9.5 | S33: =_xlfn.XLOOKUP(Q33,Table5[INDEX],Table5[VAIKUTUS (1-10)]) -> 2
G34: 2 | H34: =MAX(0,SQRT('Riskien luokittelu'!$I$100)/SQRT('Riskien luokittelu'!$I$100)*(SQRT('Riskien luokittelu'!$I$100)-G34)) -> 3 | J34: 2 | K34: =MAX(0,SQRT('Riskien luokittelu'!$I$101)/SQRT('Riskien luokittelu'!$I$101)*(SQRT('Riskien luokittelu'!$I$101)-J34)-H34) -> 5 | M34: 2 | N34: =10-H34-K34 -> 2 | Q34: R4 | R34: =_xlfn.XLOOKUP(Q34,Table5[INDEX],Table5[TODENNÄKÖISYYS (1-10)])+1 -> 10.5 | S34: =_xlfn.XLOOKUP(Q34,Table5[INDEX],Table5[VAIKUTUS (1-10)]) -> 3
G35: 3 | H35: =MAX(0,SQRT('Riskien luokittelu'!$I$100)/SQRT('Riskien luokittelu'!$I$100)*(SQRT('Riskien luokittelu'!$I$100)-G35)) -> 2 | J35: 3 | K35: =MAX(0,SQRT('Riskien luokittelu'!$I$101)/SQRT('Riskien luokittelu'!$I$101)*(SQRT('Riskien luokittelu'!$I$101)-J35)-H35) -> 5 | M35: 3 | N35: =10-H35-K35 -> 3 | Q35: R5 | R35: =_xlfn.XLOOKUP(Q35,Table5[INDEX],Table5[TODENNÄKÖISYYS (1-10)])+1 -> 3 | S35: =_xlfn.XLOOKUP(Q35,Table5[INDEX],Table5[VAIKUTUS (1-10)]) -> 2
G36: 4 | H36: =MAX(0,SQRT('Riskien luokittelu'!$I$100)/SQRT('Riskien luokittelu'!$I$100)*(SQRT('Riskien luokittelu'!$I$100)-G36)) -> 1 | J36: 4 | K36: =MAX(0,SQRT('Riskien luokittelu'!$I$101)/SQRT('Riskien luokittelu'!$I$101)*(SQRT('Riskien luokittelu'!$I$101)-J36)-H36) -> 5 | M36: 4 | N36: =10-H36-K36 -> 4 | Q36: R6 | R36: =_xlfn.XLOOKUP(Q36,Table5[INDEX],Table5[TODENNÄKÖISYYS (1-10)])+1 -> 7.6666667 | S36: =_xlfn.XLOOKUP(Q36,Table5[INDEX],Table5[VAIKUTUS (1-10)]) -> 6.6666667
G37: 5 | H37: =MAX(0,SQRT('Riskien luokittelu'!$I$100)/SQRT('Riskien luokittelu'!$I$100)*(SQRT('Riskien luokittelu'!$I$100)-G37)) -> 0 | J37: 5 | K37: =MAX(0,SQRT('Riskien luokittelu'!$I$101)/SQRT('Riskien luokittelu'!$I$101)*(SQRT('Riskien luokittelu'!$I$101)-J37)-H37) -> 5 | M37: 5 | N37: =10-H37-K37 -> 5 | Q37: R7 | R37: =_xlfn.XLOOKUP(Q37,Table5[INDEX],Table5[TODENNÄKÖISYYS (1-10)])+1 -> 8 | S37: =_xlfn.XLOOKUP(Q37,Table5[INDEX],Table5[VAIKUTUS (1-10)]) -> 9.5
G38: 6 | H38: =MAX(0,SQRT('Riskien luokittelu'!$I$100)/SQRT('Riskien luokittelu'!$I$100)*(SQRT('Riskien luokittelu'!$I$100)-G38)) -> 0 | J38: 6 | K38: =MAX(0,SQRT('Riskien luokittelu'!$I$101)/SQRT('Riskien luokittelu'!$I$101)*(SQRT('Riskien luokittelu'!$I$101)-J38)-H38) -> 4 | M38: 6 | N38: =10-H38-K38 -> 6 | Q38: R8 | R38: =_xlfn.XLOOKUP(Q38,Table5[INDEX],Table5[TODENNÄKÖISYYS (1-10)])+1 -> 4 | S38: =_xlfn.XLOOKUP(Q38,Table5[INDEX],Table5[VAIKUTUS (1-10)]) -> 3
G39: 7 | H39: =MAX(0,SQRT('Riskien luokittelu'!$I$100)/SQRT('Riskien luokittelu'!$I$100)*(SQRT('Riskien luokittelu'!$I$100)-G39)) -> 0 | J39: 7 | K39: =MAX(0,SQRT('Riskien luokittelu'!$I$101)/SQRT('Riskien luokittelu'!$I$101)*(SQRT('Riskien luokittelu'!$I$101)-J39)-H39) -> 3 | M39: 7 | N39: =10-H39-K39 -> 7 | Q39: R9 | R39: =_xlfn.XLOOKUP(Q39,Table5[INDEX],Table5[TODENNÄKÖISYYS (1-10)])+1 -> 4 | S39: =_xlfn.XLOOKUP(Q39,Table5[INDEX],Table5[VAIKUTUS (1-10)]) -> 4.5
G40: 8 | H40: =MAX(0,SQRT('Riskien luokittelu'!$I$100)/SQRT('Riskien luokittelu'!$I$100)*(SQRT('Riskien luokittelu'!$I$100)-G40)) -> 0 | J40: 8 | K40: =MAX(0,SQRT('Riskien luokittelu'!$I$101)/SQRT('Riskien luokittelu'!$I$101)*(SQRT('Riskien luokittelu'!$I$101)-J40)-H40) -> 2 | M40: 8 | N40: =10-H40-K40 -> 8 | Q40: R10 | R40: =_xlfn.XLOOKUP(Q40,Table5[INDEX],Table5[TODENNÄKÖISYYS (1-10)])+1 -> 6 | S40: =_xlfn.XLOOKUP(Q40,Table5[INDEX],Table5[VAIKUTUS (1-10)]) -> 2
G41: 9 | H41: =MAX(0,SQRT('Riskien luokittelu'!$I$100)/SQRT('Riskien luokittelu'!$I$100)*(SQRT('Riskien luokittelu'!$I$100)-G41)) -> 0 | J41: 9 | K41: =MAX(0,SQRT('Riskien luokittelu'!$I$101)/SQRT('Riskien luokittelu'!$I$101)*(SQRT('Riskien luokittelu'!$I$101)-J41)-H41) -> 1 | M41: 9 | N41: =10-H41-K41 -> 9 | Q41: R11 | R41: =_xlfn.XLOOKUP(Q41,Table5[INDEX],Table5[TODENNÄKÖISYYS (1-10)])+1 -> 3.5 | S41: =_xlfn.XLOOKUP(Q41,Table5[INDEX],Table5[VAIKUTUS (1-10)]) -> 3
G42: 10 | H42: =MAX(0,SQRT('Riskien luokittelu'!$I$100)/SQRT('Riskien luokittelu'!$I$100)*(SQRT('Riskien luokittelu'!$I$100)-G42)) -> 0 | J42: 10 | K42: =MAX(0,SQRT('Riskien luokittelu'!$I$101)/SQRT('Riskien luokittelu'!$I$101)*(SQRT('Riskien luokittelu'!$I$101)-J42)-H42) -> 0 | M42: 10 | N42: =10-H42-K42 -> 10 | Q42: R12 | R42: =_xlfn.XLOOKUP(Q42,Table5[INDEX],Table5[TODENNÄKÖISYYS (1-10)])+1 -> 5 | S42: =_xlfn.XLOOKUP(Q42,Table5[INDEX],Table5[VAIKUTUS (1-10)]) -> 2
Q43: R13 | R43: =_xlfn.XLOOKUP(Q43,Table5[INDEX],Table5[TODENNÄKÖISYYS (1-10)])+1 -> 5.5 | S43: =_xlfn.XLOOKUP(Q43,Table5[INDEX],Table5[VAIKUTUS (1-10)]) -> 3
Q44: R14 | R44: =_xlfn.XLOOKUP(Q44,Table5[INDEX],Table5[TODENNÄKÖISYYS (1-10)])+1 -> 3.5 | S44: =_xlfn.XLOOKUP(Q44,Table5[INDEX],Table5[VAIKUTUS (1-10)]) -> 7
Q45: R15 | R45: =_xlfn.XLOOKUP(Q45,Table5[INDEX],Table5[TODENNÄKÖISYYS (1-10)])+1 -> 4 | S45: =_xlfn.XLOOKUP(Q45,Table5[INDEX],Table5[VAIKUTUS (1-10)]) -> 3
Q46: R16 | R46: =_xlfn.XLOOKUP(Q46,Table5[INDEX],Table5[TODENNÄKÖISYYS (1-10)])+1 -> 2.5 | S46: =_xlfn.XLOOKUP(Q46,Table5[INDEX],Table5[VAIKUTUS (1-10)]) -> 2.5
Q47: R17 | R47: =_xlfn.XLOOKUP(Q47,Table5[INDEX],Table5[TODENNÄKÖISYYS (1-10)])+1 -> 3 | S47: =_xlfn.XLOOKUP(Q47,Table5[INDEX],Table5[VAIKUTUS (1-10)]) -> 2
Q48: R18 | R48: =_xlfn.XLOOKUP(Q48,Table5[INDEX],Table5[TODENNÄKÖISYYS (1-10)])+1 -> 3.5 | S48: =_xlfn.XLOOKUP(Q48,Table5[INDEX],Table5[VAIKUTUS (1-10)]) -> 2
Q49: R19 | R49: =_xlfn.XLOOKUP(Q49,Table5[INDEX],Table5[TODENNÄKÖISYYS (1-10)])+1 -> 5 | S49: =_xlfn.XLOOKUP(Q49,Table5[INDEX],Table5[VAIKUTUS (1-10)]) -> 4.5
Q50: R20 | R50: =_xlfn.XLOOKUP(Q50,Table5[INDEX],Table5[TODENNÄKÖISYYS (1-10)])+1 -> 5.5 | S50: =_xlfn.XLOOKUP(Q50,Table5[INDEX],Table5[VAIKUTUS (1-10)]) -> 4.5
Q51: R21 | R51: =_xlfn.XLOOKUP(Q51,Table5[INDEX],Table5[TODENNÄKÖISYYS (1-10)])+1 -> 4 | S51: =_xlfn.XLOOKUP(Q51,Table5[INDEX],Table5[VAIKUTUS (1-10)]) -> 5
Q52: R22 | R52: =_xlfn.XLOOKUP(Q52,Table5[INDEX],Table5[TODENNÄKÖISYYS (1-10)])+1 -> 3.6666667 | S52: =_xlfn.XLOOKUP(Q52,Table5[INDEX],Table5[VAIKUTUS (1-10)]) -> 2
Q53: R23 | R53: =_xlfn.XLOOKUP(Q53,Table5[INDEX],Table5[TODENNÄKÖISYYS (1-10)])+1 -> 4.3333333 | S53: =_xlfn.XLOOKUP(Q53,Table5[INDEX],Table5[VAIKUTUS (1-10)]) -> 4
Q54: R24 | R54: =_xlfn.XLOOKUP(Q54,Table5[INDEX],Table5[TODENNÄKÖISYYS (1-10)])+1 -> 4.5 | S54: =_xlfn.XLOOKUP(Q54,Table5[INDEX],Table5[VAIKUTUS (1-10)]) -> 3
... Q57: R27 | R57: =_xlfn.XLOOKUP(Q57,Table5[INDEX],Table5[TODENNÄKÖISYYS (1-10)])+1 -> 6 | S57: =_xlfn.XLOOKUP(Q57,Table5[INDEX],Table5[VAIKUTUS (1-10)]) -> 4
